BEGIN:VCALENDAR
VERSION:2.0
PRODID:-//ChamberMaster//Event Calendar 2.0//EN
METHOD:PUBLISH
X-PUBLISHED-TTL:P3D
REFRESH-INTERVAL:P3D
CALSCALE:GREGORIAN
BEGIN:VEVENT
DTSTART:20101120T003000Z
DTEND:20101120T033000Z
X-MICROSOFT-CDO-ALLDAYEVENT:FALSE
SUMMARY:Italian 5-Course Wine Dinner paired with 6 Wines
DESCRIPTION:* Hors d'oeuvres\n\nChef Selected Canapes\n\nProsecco - Torrsella - Veneto\n\n* Insalata\n\nPanzanella\, Mizuna - Aged Chevre - red Wine Vinaigrette\n\nSicillian Blend - Baglio di Pianetto "Ficiligno" - Sicily\n\n* Primi Piatti Pesce\n\nOrecchiette with Clams\, Missels and Shrimp. Escarole\n\nTomato Ragout - Lemon Oil\n\nChianti Classico - Villa Cafaggio - Tuscany\n\n*Intermezzo\n\nBerry Sorbet\n\nMoscato - Bartenura - Salento\n\n* ll Secando Piatto\n\nBraised Short Ribs and Soft Polenta. Charred Onion\n\nThumbelina Carrot - Celeriac\n\nCabernet Sauvignon - Santa Margherita - Lison Pramaggiore\n\n* Dolci\n\nTuscan Chocolate Torte\n\nSicilian Blend - Baglio di Pianetto "Ramione" - Sicily
X-ALT-DESC;FMTTYPE=text/html:* Hors d&#39\;oeuvres<br />\nChef Selected Canapes<br />\nProsecco - Torrsella - Veneto<br />\n* Insalata<br />\nPanzanella\, Mizuna - Aged Chevre - red Wine Vinaigrette<br />\nSicillian Blend - Baglio di Pianetto &quot\;Ficiligno&quot\; - Sicily<br />\n* Primi Piatti Pesce<br />\nOrecchiette with Clams\, Missels and Shrimp. Escarole<br />\nTomato Ragout - Lemon Oil<br />\nChianti Classico - Villa Cafaggio - Tuscany<br />\n*Intermezzo<br />\nBerry Sorbet<br />\nMoscato - Bartenura - Salento<br />\n* ll Secando Piatto<br />\nBraised Short Ribs and Soft Polenta. Charred Onion<br />\nThumbelina Carrot - Celeriac<br />\nCabernet Sauvignon - Santa Margherita - Lison Pramaggiore<br />\n* Dolci<br />\nTuscan Chocolate Torte<br />\nSicilian Blend - Baglio di Pianetto &quot\;Ramione&quot\; - Sicily<br />\n<br />\n<br />\n
LOCATION:Afton House Inn - 3291 St. Croix Tr. S.
UID:e.606.112007
SEQUENCE:3
DTSTAMP:20260423T113306Z
URL:https://www.hastingsmn.org/events/details/italian-5-course-wine-dinner-paired-with-6-wines-11-19-2010-112007
END:VEVENT

END:VCALENDAR
