BEGIN:VCALENDAR
VERSION:2.0
PRODID:-//ChamberMaster//Event Calendar 2.0//EN
METHOD:PUBLISH
X-PUBLISHED-TTL:P3D
REFRESH-INTERVAL:P3D
CALSCALE:GREGORIAN
BEGIN:VEVENT
DTSTART:20120316T233000Z
DTEND:20120317T020000Z
X-MICROSOFT-CDO-ALLDAYEVENT:FALSE
SUMMARY:Irish Fare & Artisan Beer Dinner
DESCRIPTION:Friday\, March 16th\n\n	6:30 pm Meet & Greet with butler passed hors d'oeuvres\n\n	 \n\n	7 pm first course served\n\n	 \n\n	First Course\n\n	Deconstructed Dublin Coddle\n\n	Rashers - potato - Gunnison onion\n\n	Fuller's London Pride\, England\n\n	Second Course\n\n	Cauliflower & Parsley Fritters\n\n	Nettles & Greens - Malt Vinegar\n\n	Intermezzo\n\n	Sorrel Sorbet\n\n	Fourth Course\n\n	Salmon & Colecannon\n\n	Cockles -  Mussles\n\n	Finnegans Irish Amber\, St. Paul\n\n	Fifth Course\n\n	Chocolate Guinness Cake\n\n	Bailey's Butter Cream - 2 Gingers Caramel Sauce\n\n	O'hara's Irish Stout & 2 Gingers Irish Whiskey\, Ireland
X-ALT-DESC;FMTTYPE=text/html:<p class="MsoNormal" style="margin: 0in 0in 0pt">\n	<span style="font-size: 11px"><span style="font-family: verdana"><strong><u><span style="color: #261100\; font-weight: normal">Friday\, March 16th</span></u></strong><br />\n	<strong><span style="color: #261100\; font-weight: normal">6:30 pm Meet &amp\; Greet with butler passed hors d&#39\;oeuvres</span></strong></span></span></p>\n<p class="MsoNormal" style="margin: 0in 0in 0pt">\n	<span style="font-size: 11px"><span style="font-family: verdana"><span style="color: #806b2a\; mso-bidi-font-size: 12.0pt">&nbsp\;</span></span></span></p>\n<p class="MsoNormal" style="margin: 0in 0in 0pt">\n	<span style="font-size: 11px"><span style="font-family: verdana"><strong><span style="color: #261100\; font-weight: normal">7 pm first course served</span></strong></span></span></p>\n<p class="MsoNormal" style="margin: 0in 0in 0pt">\n	<span style="font-size: 11px"><span style="font-family: verdana"><span style="mso-bidi-font-size: 12.0pt"><font color="#000000">&nbsp\;</font></span></span></span></p>\n<p class="MsoNormal" style="margin: 0in 0in 0pt">\n	<span style="font-size: 11px"><span style="font-family: verdana"><strong><u><span style="color: #261100\; font-weight: normal">First Course</span></u></strong></span></span></p>\n<p class="MsoNormal" style="margin: 0in 0in 0pt">\n	<span style="font-size: 11px"><span style="font-family: verdana"><strong><span style="color: #261100\; font-weight: normal">Deconstructed Dublin Coddle</span></strong></span></span></p>\n<p class="MsoNormal" style="margin: 0in 0in 0pt">\n	<span style="font-size: 11px"><span style="font-family: verdana"><strong><span style="color: #261100\; font-weight: normal">Rashers - potato - Gunnison onion</span></strong></span></span></p>\n<p class="MsoNormal" style="margin: 0in 0in 0pt">\n	<span style="font-size: 11px"><span style="font-family: verdana"><strong><i><span style="color: #261100\; font-weight: normal">Fuller&rsquo\;s London Pride\, England</span></i></strong></span></span></p>\n<p class="MsoNormal" style="margin: 0in 0in 0pt">\n	<span style="font-size: 11px"><span style="font-family: verdana"><strong><u><span style="color: #261100\; font-weight: normal">Second&nbsp\;Course</span></u></strong><br />\n	<strong><span style="color: #261100\; font-weight: normal">Cauliflower &amp\; Parsley Fritters</span></strong><br />\n	<strong><span style="color: #261100\; font-weight: normal">Nettles &amp\; Greens - Malt Vinegar</span></strong></span></span></p>\n<p class="MsoNormal" style="margin: 0in 0in 0pt">\n	<span style="font-size: 11px"><span style="font-family: verdana"><strong><u><span style="color: #261100\; font-weight: normal">Intermezzo</span></u></strong></span></span></p>\n<p class="MsoNormal" style="margin: 0in 0in 0pt">\n	<span style="font-size: 11px"><span style="font-family: verdana"><strong><span style="color: #261100\; font-weight: normal">Sorrel Sorbet</span></strong></span></span></p>\n<p class="MsoNormal" style="margin: 0in 0in 0pt">\n	<span style="font-size: 11px"><span style="font-family: verdana"><strong><u><span style="color: #261100\; font-weight: normal">Fourth Course</span></u></strong></span></span></p>\n<p class="MsoNormal" style="margin: 0in 0in 0pt">\n	<span style="font-size: 11px"><span style="font-family: verdana"><strong><span style="color: #261100\; font-weight: normal">Salmon &amp\; Colecannon</span></strong></span></span></p>\n<p class="MsoNormal" style="margin: 0in 0in 0pt">\n	<span style="font-size: 11px"><span style="font-family: verdana"><strong><span style="color: #261100\; font-weight: normal">Cockles -&nbsp\; Mussles</span></strong></span></span></p>\n<p class="MsoNormal" style="margin: 0in 0in 0pt">\n	<span style="font-size: 11px"><span style="font-family: verdana"><strong><i><span style="color: #261100\; font-weight: normal">Finnegans Irish Amber\, St. Paul</span></i></strong></span></span></p>\n<p class="MsoNormal" style="margin: 0in 0in 0pt">\n	<span style="font-size: 11px"><span style="font-family: verdana"><strong><u><span style="color: #261100\; font-weight: normal">Fifth Course</span></u></strong></span></span></p>\n<p class="MsoNormal" style="margin: 0in 0in 0pt">\n	<span style="font-size: 11px"><span style="font-family: verdana"><strong><span style="color: #261100\; font-weight: normal">Chocolate Guinness Cake</span></strong></span></span></p>\n<p class="MsoNormal" style="margin: 0in 0in 0pt">\n	<span style="font-size: 11px"><span style="font-family: verdana"><strong><span style="color: #261100\; font-weight: normal">Bailey&#39\;s Butter Cream - 2 Gingers Caramel Sauce</span></strong></span></span></p>\n<p class="MsoNormal" style="margin: 0in 0in 0pt">\n	<span style="font-size: 11px"><span style="font-family: verdana"><strong><i><span style="color: #261100\; font-weight: normal">O&#39\;hara&rsquo\;s Irish Stout &amp\; 2 Gingers Irish Whiskey\, Ireland</span></i></strong></span></span></p>\n
LOCATION:Afton House Inn\, 3291 St. Croix Trail South\, Afton\, MN 55001
UID:e.606.113640
SEQUENCE:3
DTSTAMP:20260422T112630Z
URL:https://www.hastingsmn.org/events/details/irish-fare-artisan-beer-dinner-03-16-2012-113640
END:VEVENT

END:VCALENDAR
