BEGIN:VCALENDAR
VERSION:2.0
PRODID:-//ChamberMaster//Event Calendar 2.0//EN
METHOD:PUBLISH
X-PUBLISHED-TTL:P3D
REFRESH-INTERVAL:P3D
CALSCALE:GREGORIAN
BEGIN:VEVENT
DTSTART:20120331T170000Z
DTEND:20120331T200000Z
X-MICROSOFT-CDO-ALLDAYEVENT:FALSE
SUMMARY:In Appreciation of Our Servicewomen - Present & Past
DESCRIPTION:In Appreciation of Our Servicewomen   Present and Past\n\n	 \n\n	An invitation is extended to servicewomen to attend a special Servicewomen's Luncheon\, which will be held on March 31\, 2012\, Noon to 3:00 p.m.\, at Gallagher Hansen VFW Post #295\, 111 South Concord Exchange\, South St Paul\, MN 55075. \n\n	 \n\n	Women have a long\, proud tradition of military service that must be recognized.  Beyond The Yellow Ribbon South St Paul and Hastings wants to recognize and honor servicewomen - Past and Present. "Duty\, Honor\, Pride. These words reflect the spirit of generations of American women who have sought to defend the rights and freedom of others. The history of women in the armed forces began more than 220 years ago with women who served during the American Revolution and continues through the present day.\n\n	 \n\n	Women Veterans are one of the fastest growing segments of the Veteran population. Women make up 1 percent of the country's veteran population\, 15 percent of active duty service members and nearly 18 percent of guard and reserve forces. Let us remember the special contributions of the ever-increasing number of women serving in the armed forces.\n\n	 \n\n	Our keynote speaker will be Lieutenant Colonel Vicky Kline\, a retired nurse\, from Lakeville\, Minnesota.\n\n	 \n\n	For more information about this event\, please contact Marilyn\, South St. Paul Coordinator\, (651) 451-6007\, or email marilyn839@msn.com.\n\n	 \n\n	Thank you for your service and sacrifices !!!!
X-ALT-DESC;FMTTYPE=text/html:<p align="center" class="MsoNormal" style="text-align: center\; margin: 0in 0in 0pt">\n	<span style="font-size: 12px"><span style="mso-bidi-font-size: 12.0pt"><font color="#000000">In Appreciation of Our Servicewomen &ndash\; Present and Past</font></span></span></p>\n<p class="MsoNormal" style="margin: 0in 0in 0pt">\n	<span style="font-family: verdana\; font-size: 10pt\; mso-bidi-font-size: 12.0pt"><font color="#000000">&nbsp\;</font></span></p>\n<p class="MsoNormal" style="margin: 0in 0in 0pt">\n	<span style="font-size: 11px"><span style="font-family: verdana\; color: black\; mso-bidi-font-size: 12.0pt">An invitation is extended to&nbsp\;servicewomen to attend a</span><span style="font-family: verdana\; color: black\; mso-bidi-font-size: 12.0pt\; mso-bidi-font-family: arial">&nbsp\;special Servicewomen&#39\;s Luncheon\, which will&nbsp\;be held on March 31\, 2012\, Noon to 3:00 p.m.\, at Gallagher Hansen VFW Post #295\, 111 South Concord Exchange\, South St Paul\, MN 55075.&nbsp\;</span></span><br />\n	<span style="font-size: 11px"><sup><span style="font-family: verdana\; color: black\; mso-bidi-font-size: 12.0pt\; mso-bidi-font-family: arial">&nbsp\;</span></sup></span></p>\n<p class="MsoNormal" style="margin: 0in 0in 0pt">\n	<span style="font-size: 11px"><span style="font-family: verdana\; color: black\; mso-bidi-font-family: arial">Women have a long\, proud tradition of military service that must be recognized.&nbsp\; Beyond The Yellow Ribbon South St Paul and Hastings wants to recognize and honor servicewomen - Past and Present. &quot\;Duty\, Honor\, Pride. These words reflect the spirit of generations of American women who have sought to defend the rights and freedom of others. The history of women in the armed forces began more than 220 years ago with women who served during the American Revolution and continues through the present day.</span></span></p>\n<p class="MsoNormal" style="margin: 0in 0in 0pt">\n	<span style="font-size: 11px"><span style="font-family: verdana\; color: black\; mso-bidi-font-family: arial"><span style="mso-spacerun: yes">&nbsp\;</span></span></span></p>\n<p class="MsoNormal" style="margin: 0in 0in 0pt">\n	<span style="font-size: 11px"><span style="font-family: verdana\; color: black\; mso-bidi-font-family: arial">Women Veterans are one of the fastest growing segments of the Veteran population. Women make up 1 percent of the country&#39\;s veteran population\, 15 percent of active duty service members and nearly 18 percent of guard and reserve forces. Let us remember the special contributions of the ever-increasing number of women serving in the armed forces.</span></span></p>\n<p class="MsoNormal" style="margin: 0in 0in 0pt">\n	<span style="font-size: 11px"><span style="font-family: verdana\; color: black\; mso-bidi-font-family: arial">&nbsp\;</span></span></p>\n<p class="MsoNormal" style="margin: 0in 0in 0pt">\n	<span style="font-size: 11px"><span style="font-family: verdana\; color: black\; mso-bidi-font-family: arial">Our keynote speaker will be Lieutenant Colonel Vicky Kline\, a retired nurse\,&nbsp\;from Lakeville\, Minnesota.</span></span></p>\n<p class="MsoNormal" style="margin: 0in 0in 0pt">\n	<span style="font-size: 11px"><span style="font-family: verdana\; color: black\; mso-bidi-font-family: arial">&nbsp\;</span></span></p>\n<p class="MsoNormal" style="margin: 0in 0in 0pt">\n	<span style="font-size: 11px"><span style="font-family: verdana\; color: black\; mso-bidi-font-family: arial">For more information about this event\, please contact Marilyn\, South St. Paul Coordinator\, (651) 451-6007\, or email <a href="mailto:marilyn839@msn.com" title="mailto:marilyn839@msn.com">marilyn839@msn.com</a>.</span></span></p>\n<p class="MsoNormal" style="margin: 0in 0in 0pt">\n	<span style="font-size: 11px"><span style="font-family: verdana\; color: black\; mso-bidi-font-family: arial">&nbsp\;</span></span></p>\n<p class="MsoNormal" style="margin: 0in 0in 0pt">\n	<span style="font-size: 11px"><span style="font-family: verdana\; color: black\; mso-bidi-font-family: arial">Thank you for your service and sacrifices !!!!</span></span></p>\n<p class="MsoNormal" style="margin: 0in 0in 0pt">\n	<span style="font-size: 11px"><span style="font-family: verdana\; color: black\; mso-bidi-font-family: arial">&nbsp\;</span></span><span style="font-size: 11px"><span style="font-family: verdana\; color: black\; mso-bidi-font-family: arial">&nbsp\;</span></span></p>\n<p class="MsoNormal" style="margin: 0in 0in 0pt">\n	<span style="font-size: 11px"><span style="font-family: verdana\; mso-bidi-font-size: 12.0pt"><font color="#000000">&nbsp\;</font></span></span></p>\n
LOCATION:Gallagher Hansen VFW Post #295\, 111 South Concord Exchange\, South St Paul\, Mn 55075
UID:e.606.113403
SEQUENCE:3
DTSTAMP:20260420T103118Z
URL:https://www.hastingsmn.org/events/details/in-appreciation-of-our-servicewomen-present-past-03-31-2012-113403
END:VEVENT

END:VCALENDAR
