BEGIN:VCALENDAR
VERSION:2.0
PRODID:-//ChamberMaster//Event Calendar 2.0//EN
METHOD:PUBLISH
X-PUBLISHED-TTL:P3D
REFRESH-INTERVAL:P3D
CALSCALE:GREGORIAN
BEGIN:VEVENT
DTSTART;VALUE=DATE:20120219
DTEND;VALUE=DATE:20120220
TRANSP:TRANSPARENT
X-MICROSOFT-CDO-ALLDAYEVENT:TRUE
SUMMARY:In Appreciation of Our Servicewomen - Present and Pst
DESCRIPTION:
X-ALT-DESC;FMTTYPE=text/html:
LOCATION:
UID:e.606.113404
SEQUENCE:3
DTSTAMP:20260420T123140Z
URL:https://www.hastingsmn.org/events/details/in-appreciation-of-our-servicewomen-present-and-pst-02-19-2012-113404
END:VEVENT

END:VCALENDAR
