BEGIN:VCALENDAR
VERSION:2.0
PRODID:-//ChamberMaster//Event Calendar 2.0//EN
METHOD:PUBLISH
X-PUBLISHED-TTL:P3D
REFRESH-INTERVAL:P3D
CALSCALE:GREGORIAN
BEGIN:VEVENT
DTSTART:20130325T230000Z
DTEND:20130325T230000Z
X-MICROSOFT-CDO-ALLDAYEVENT:FALSE
SUMMARY:How to Raise a Healthy Family... Naturally!
DESCRIPTION:Please join Dr. Emily Hauck\, a Chiropractor and Mom\, to learn important keys to raising a happy\, healthy family.  Learn specific ways to boost your child's immune system\, proper childhood nutrition\, natural remedies for common childhood ailments and more!  Please call the clinic at 651-319-0542 or e-mail dremilyhauck@gmail.com to reserve your spot today!
X-ALT-DESC;FMTTYPE=text/html:<p>\n	Please join Dr. Emily Hauck\, a Chiropractor and Mom\, to learn important keys to raising a happy\, healthy family.&nbsp\;&nbsp\;Learn specific ways to boost your child&rsquo\;s immune system\, proper childhood nutrition\, natural remedies for common childhood ailments and more!&nbsp\; Please call the clinic at 651-319-0542 or e-mail <a href="mailto:dremilyhauck@gmail.com">dremilyhauck@gmail.com</a> to reserve your spot today!</p>\n
LOCATION:Hauck Chiropractic Clinic 215 Ramsey Street Hastings\, MN
UID:e.606.113791
SEQUENCE:3
DTSTAMP:20260419T131751Z
URL:https://www.hastingsmn.org/events/details/how-to-raise-a-healthy-family-naturally-03-25-2013-113791
END:VEVENT

END:VCALENDAR
