BEGIN:VCALENDAR
VERSION:2.0
PRODID:-//ChamberMaster//Event Calendar 2.0//EN
METHOD:PUBLISH
X-PUBLISHED-TTL:P3D
REFRESH-INTERVAL:P3D
CALSCALE:GREGORIAN
BEGIN:VEVENT
DTSTART:20100212T230000Z
DTEND:20100213T043000Z
X-MICROSOFT-CDO-ALLDAYEVENT:FALSE
SUMMARY:Horse Drawn Sleigh Ride/Dinner/Concert
DESCRIPTION:Dystonia Funraiser EventSleigh rides start at 5 p.m. with dinner to follow.  Midlife Chryslers start the concert at 7:30 p.m.
X-ALT-DESC;FMTTYPE=text/html:<h3 style="color: red">Dystonia Funraiser Event</h3><div>Sleigh rides start at 5 p.m. with dinner to follow.&nbsp\; Midlife Chryslers start the concert at 7:30 p.m.</div>
LOCATION:McArthur's Wood Grill & Banquet Facility26155 Nicolai AveCannon Falls\, MN 55009
UID:e.606.111519
SEQUENCE:3
DTSTAMP:20260425T212036Z
URL:https://www.hastingsmn.org/events/details/horse-drawn-sleigh-ride-dinner-concert-02-12-2010-111519
END:VEVENT

END:VCALENDAR
