BEGIN:VCALENDAR
VERSION:2.0
PRODID:-//ChamberMaster//Event Calendar 2.0//EN
METHOD:PUBLISH
X-PUBLISHED-TTL:P3D
REFRESH-INTERVAL:P3D
CALSCALE:GREGORIAN
BEGIN:VEVENT
DTSTART:20100204T000000Z
DTEND:20100204T010000Z
X-MICROSOFT-CDO-ALLDAYEVENT:FALSE
SUMMARY:Homebuyer Tax Credit Seminar
DESCRIPTION:Homebuyer tax credit seminar. Topics:*Available tax credits for first time and repeat buyers*Your credit score and how it affects borrowing*Benefits of working with WESTconsit Realty LLC Refreshments served
X-ALT-DESC;FMTTYPE=text/html:<div>Homebuyer tax credit seminar.&nbsp\;</div><div>Topics:</div><div>*Available tax credits for first time and repeat buyers</div><div>*Your credit score and how it affects borrowing</div><div>*Benefits of working with WESTconsit Realty LLC</div><div>&nbsp\;</div><div>Refreshments served</div>
LOCATION:American Legion Post 4750 Sibley StreetHastings\, MN
UID:e.606.111507
SEQUENCE:3
DTSTAMP:20260425T212838Z
URL:https://www.hastingsmn.org/events/details/homebuyer-tax-credit-seminar-02-03-2010-111507
END:VEVENT

END:VCALENDAR
