BEGIN:VCALENDAR
VERSION:2.0
PRODID:-//ChamberMaster//Event Calendar 2.0//EN
METHOD:PUBLISH
X-PUBLISHED-TTL:P3D
REFRESH-INTERVAL:P3D
CALSCALE:GREGORIAN
BEGIN:VEVENT
DTSTART:20101211T003000Z
DTEND:20101211T033000Z
X-MICROSOFT-CDO-ALLDAYEVENT:FALSE
SUMMARY:Holiday Wine Dinner
DESCRIPTION:Holiday Wine Dinner  \n\n\n\n3 course dinner plus horsdoeuvres paired with 4 wines.  \n\n\n\n6:30 PM Reception\n\n7:00 PM 1st Course Served\n\n\n\nHors d?oeuvres / Meet & Greet\n\nChef Selected Butler Passed Canapés\n\n\n\n Pork & Rabbit Pate\n\nPistachio Butter ? Cherry Moustarda ? Brandy Gelee\n\n \n\nGrilled Buffalo Steak\n\nBraised Kale ? Pumpkin & Turnip Sauté ? Pomegranate Glaze\n\n \n\nRum Sponge Cake\n\nRum Chata Custard Sauce ? Whipped Cream ? Candied Kumquat Salad\n\n\n\nDon't want to drive? Stay with us!\n\n\n\n"Romantic Room Special"\n\nReserve a Romantic Room with\n\na Jacuzzi and Fireplace \n\nReceive 20% off\n\nMust have Wine Dinner Reservations.
X-ALT-DESC;FMTTYPE=text/html:Holiday Wine Dinner  \n<br>\n<br>3 course dinner plus horsdoeuvres paired with 4 wines.  \n<br>\n<br>6:30 PM Reception\n<br>7:00 PM 1st Course Served\n<br>\n<br>Hors d?oeuvres / Meet &amp\; Greet\n<br>Chef Selected Butler Passed Canapés\n<br>\n<br> Pork &amp\; Rabbit Pate\n<br>Pistachio Butter ? Cherry Moustarda ? Brandy Gelee\n<br> \n<br>Grilled Buffalo Steak\n<br>Braised Kale ? Pumpkin &amp\; Turnip Sauté ? Pomegranate Glaze\n<br> \n<br>Rum Sponge Cake\n<br>Rum Chata Custard Sauce ? Whipped Cream ? Candied Kumquat Salad\n<br>\n<br>Don't want to drive? Stay with us!\n<br>\n<br>"Romantic Room Special"\n<br>Reserve a Romantic Room with\n<br>a Jacuzzi and Fireplace \n<br>Receive 20% off\n<br>Must have Wine Dinner Reservations.\n<br>\n<br>
LOCATION:Afton House Inn\, 3291 St. Croix Trail South\, Afton\, MN
UID:e.606.112011
SEQUENCE:3
DTSTAMP:20260425T111405Z
URL:https://www.hastingsmn.org/events/details/holiday-wine-dinner-12-10-2010-112011
END:VEVENT

END:VCALENDAR
