BEGIN:VCALENDAR
VERSION:2.0
PRODID:-//ChamberMaster//Event Calendar 2.0//EN
METHOD:PUBLISH
X-PUBLISHED-TTL:P3D
REFRESH-INTERVAL:P3D
CALSCALE:GREGORIAN
BEGIN:VEVENT
DTSTART:20121211T223000Z
DTEND:20121211T233000Z
X-MICROSOFT-CDO-ALLDAYEVENT:FALSE
SUMMARY:Holiday Train
DESCRIPTION:Welcome the Canadian Pacific Holiday Train to Hastings!  Support Hastings Family Service through the 10 Days of Giving Food Drive sponsored by Merchants Bank.  Bring a non-perishable food item or donation to the Holiday Train event to support the HFS food shelf and holiday assistance programs.\n\n\n\nHFS HOLIDAY ASSISTANCE PROGRAM - get involved in making the holidays brighter for a struggling family.  Please consider helping in one of the following ways:\n\n - Adopt-a-Family\n\n - Donate food items for a holiday meal\n\n - Purchase a gift from a local gift tree\n\n - Volunteer to wrap gifts or pack food\n\nHFS H
X-ALT-DESC;FMTTYPE=text/html:Welcome the Canadian Pacific Holiday Train to Hastings!&nbsp\; Support Hastings Family Service through the 10 Days of Giving Food Drive sponsored by Merchants Bank.&nbsp\; Bring a non-perishable food item or donation to the Holiday Train event to support the HFS food shelf and holiday assistance programs.<br />\n<br />\nHFS HOLIDAY ASSISTANCE PROGRAM - get involved in making the holidays brighter for a struggling family.&nbsp\; Please consider helping in one of the following ways:<br />\n&nbsp\;- Adopt-a-Family<br />\n&nbsp\;- Donate food items for a holiday meal<br />\n&nbsp\;- Purchase a gift from a local gift tree<br />\n&nbsp\;- Volunteer to wrap gifts or pack food<br />\n<span _fck_bookmark="1" style="display: none">HFS H&nbsp\;</span>
LOCATION:Downtown Hastings Depot
UID:e.606.113755
SEQUENCE:3
DTSTAMP:20260419T200621Z
URL:https://www.hastingsmn.org/events/details/holiday-train-12-11-2012-113755
END:VEVENT

END:VCALENDAR
