BEGIN:VCALENDAR
VERSION:2.0
PRODID:-//ChamberMaster//Event Calendar 2.0//EN
METHOD:PUBLISH
X-PUBLISHED-TTL:P3D
REFRESH-INTERVAL:P3D
CALSCALE:GREGORIAN
BEGIN:VEVENT
DTSTART:20111211T213000Z
DTEND:20111211T224500Z
X-MICROSOFT-CDO-ALLDAYEVENT:FALSE
SUMMARY:Holiday Train
DESCRIPTION:Hastings is pleased to be a host stop for the Canadian Pacific Railway's lighted Holiday Train and musical show. The Holiday Train will arrive at the Train Depot on 2nd Street at approximately 4:00 p.m.\n		\n			 \n		\n			Since 1999\, Canadian Pacific Railway (CPR) has been running a freight train decorated with thousands of Christmas lights to raise awareness on the issue of hunger prevalent in all communities and to raise funds and food for each of the local food banks or pantries were the train stops.\n		\n			 \n		\n			Each train has a "stage car." These are renovated boxcars containing stage lights and sound equipment. At each of the stops in Canada and the U.S. Midwest and Northeast\, entertainers who ride along on the train perform 20 to 30 minute outdoor concerts.\n		\n			 \n		\n			The Holiday Train is a prop for hunger relief efforts. No food or cash is loaded onto the train to be taken away. Food and cash will be donated to Hastings Family Service. Cash donations are especially appreciated\, but nonperishable food items are also welcome. For further information visit www.cpr.ca.\n\n			 \n			\n				\n					\n\n					MOMS Club East will also have hot chocolate and other items for sale during the event. Cub Scout Pack 278 will be collecting non-perishable food items for Hastings Family Service and The Hastings Middle School Student Impact Group will collect cash donations.  They will be carrying large candy canes.
X-ALT-DESC;FMTTYPE=text/html:<div>\n	<div style="margin: 0in 0in 0pt 0.25in">\n		Hastings is pleased to be a host stop for the Canadian Pacific Railway&rsquo\;s lighted <span style="font-size: small"><strong><span style="color: #ff0000">Holiday Train </span></strong></span>and musical show. The Holiday Train will arrive at the Train Depot on 2nd Street at approximately 4:00 p.m.\n		<div>\n			&nbsp\;</div>\n		<div>\n			Since 1999\, Canadian Pacific Railway (CPR) has been running a freight train decorated with thousands of Christmas lights to raise awareness on the issue of hunger prevalent in all communities and to raise funds and food for each of the local food banks or pantries were the train stops.</div>\n		<div>\n			&nbsp\;</div>\n		<div>\n			Each train has a &quot\;stage car.&quot\; These are renovated boxcars containing stage lights and sound equipment. At each of the stops in Canada and the U.S. Midwest and Northeast\, entertainers who ride along on the train perform 20 to 30 minute outdoor concerts.</div>\n		<div>\n			&nbsp\;</div>\n		<div>\n			The Holiday Train is a prop for hunger relief efforts. No food or cash is loaded onto the train to be taken away. <span style="color: #ff0000"><strong>Food and cash will be donated to Hastings Family Service</strong></span><strong>. </strong>Cash donations are especially appreciated\, but nonperishable food items are also welcome. For further information visit www.cpr.ca.<br />\n			&nbsp\;\n			<div>\n				<div>\n					<br />\n					<em><span style="color: #0000ff"><em><span style="color: #0000ff">MOMS Club East will also have hot chocolate and other items for sale during the event. Cub Scout Pack 278 will be collecting non-perishable food items for Hastings Family Service and The Hastings Middle School Student Impact Group will collect cash donations.&nbsp\; They will be carrying large candy canes.</span></em></span></em></div>\n				<br />\n				<em><span style="color: #0000ff"><span _fck_bookmark="1" style="display: none">&nbsp\;</span></span></em></div>\n		</div>\n		<div>\n			&nbsp\;</div>\n	</div>\n</div>\n
LOCATION:CA Depot500 2nd StreetHastings
UID:e.606.113329
SEQUENCE:3
DTSTAMP:20260420T154948Z
URL:https://www.hastingsmn.org/events/details/holiday-train-12-11-2011-113329
END:VEVENT

END:VCALENDAR
