BEGIN:VCALENDAR
VERSION:2.0
PRODID:-//ChamberMaster//Event Calendar 2.0//EN
METHOD:PUBLISH
X-PUBLISHED-TTL:P3D
REFRESH-INTERVAL:P3D
CALSCALE:GREGORIAN
BEGIN:VEVENT
DTSTART:20091206T190000Z
DTEND:20091206T230000Z
X-MICROSOFT-CDO-ALLDAYEVENT:FALSE
SUMMARY:Holiday Tour of St. Croix Valley Bed & Breakfast Inns
DESCRIPTION:Enjoy 15 of the most amazing Inns of the St. Croix Valley\, all decorated for the holiday.  Tour any or all of the Inns.
X-ALT-DESC;FMTTYPE=text/html:<div>Enjoy 15 of the most amazing Inns of the St. Croix Valley\, all decorated for the holiday.&nbsp\; Tour any or all of the Inns.&nbsp\;</div><div>&nbsp\;</div><div>&nbsp\;</div>
LOCATION:For locations\, please visit www.innsofthevalley.com
UID:e.606.111236
SEQUENCE:3
DTSTAMP:20260426T000658Z
URL:https://www.hastingsmn.org/events/details/holiday-tour-of-st-croix-valley-bed-breakfast-inns-12-06-2009-111236
END:VEVENT

END:VCALENDAR
