BEGIN:VCALENDAR
VERSION:2.0
PRODID:-//ChamberMaster//Event Calendar 2.0//EN
METHOD:PUBLISH
X-PUBLISHED-TTL:P3D
REFRESH-INTERVAL:P3D
CALSCALE:GREGORIAN
BEGIN:VEVENT
DTSTART;VALUE=DATE:20100818
DTEND;VALUE=DATE:20101001
TRANSP:TRANSPARENT
X-MICROSOFT-CDO-ALLDAYEVENT:TRUE
SUMMARY:Historic Hastings Photo Competition at the LeDuc Historic Estate
DESCRIPTION:Professional & Amateur photographers invited to participate.  Go to www.dakotahistory.org for details.\n\nCategories are:  The exterior of the LeDuc house\, A collage of the outbuildings at LeDuc that includes the chickens\, The Vermillion Falls\, A collage of Historic Hastings including City Hall\, Second street & some historic homes\, Fasbender Clinic (Frank Lloyd Wright design.)  Prizes will be awarded in each category.  Winning images will be reproduced for post cards
X-ALT-DESC;FMTTYPE=text/html:Professional &amp\; Amateur photographers invited to participate.  Go to www.dakotahistory.org for details.\n<br>Categories are:  The exterior of the LeDuc house\, A collage of the outbuildings at LeDuc that includes the chickens\, The Vermillion Falls\, A collage of Historic Hastings including City Hall\, Second street &amp\; some historic homes\, Fasbender Clinic (Frank Lloyd Wright design.)  Prizes will be awarded in each category.  Winning images will be reproduced for post cards
LOCATION:LeDuc Historic Estate - 1629 Vermillion Street\, Hastings\, MN 55033
UID:e.606.111961
SEQUENCE:3
DTSTAMP:20260425T111702Z
URL:https://www.hastingsmn.org/events/details/historic-hastings-photo-competition-at-the-leduc-historic-estate-08-18-2010-111961
END:VEVENT

END:VCALENDAR
