BEGIN:VCALENDAR
VERSION:2.0
PRODID:-//ChamberMaster//Event Calendar 2.0//EN
METHOD:PUBLISH
X-PUBLISHED-TTL:P3D
REFRESH-INTERVAL:P3D
CALSCALE:GREGORIAN
BEGIN:VEVENT
DTSTART:20100414T000000Z
DTEND:20100414T013000Z
X-MICROSOFT-CDO-ALLDAYEVENT:FALSE
SUMMARY:Higher Education Veterans Program
DESCRIPTION:Kathy Bachman\, Regional Coordinator\, Minnesota Department of Veterans Affairs and Gina Boeckermann\, Veterans Representative with the Minnesota State Colleges and Universities\, will explain the programs designed by Minnesota Department of Veterans Affairs (MDVA) to support Veterans\, current military members and their families at Minnesota's College and Universities. She will also provide information to on-campus Veterans Resources Centers\, benefits and resources available to meet the unique needs of these students. Ms. Boeckermann will give details about GPS LifePlan (FWD). It is an online resource of the Minnesota State Colleges and Universities that enable service members to define their career goals\, life goals and establish plans to meet those goals while deployed or state-side.
X-ALT-DESC;FMTTYPE=text/html:<div>Kathy Bachman\, Regional Coordinator\, Minnesota Department of Veterans Affairs and Gina Boeckermann\, Veterans Representative with the Minnesota State Colleges and Universities\, will explain the programs designed by Minnesota Department of Veterans Affairs (MDVA) to support Veterans\, current military members and their families at Minnesota's College and Universities. She will also provide information to on-campus Veterans Resources Centers\, benefits and resources available to meet the unique needs of these students. Ms. Boeckermann will give details about GPS LifePlan (FWD). It is an online resource of the Minnesota State Colleges and Universities that enable service members to define their career goals\, life goals and establish plans to meet those goals while deployed or state-side. <br />&nbsp\;</div>
LOCATION:Lyle Russell VFW Post 1210\, 275 West 33rd St\, Suite I\, Hastings\, MN
UID:e.606.111561
SEQUENCE:3
DTSTAMP:20260425T181554Z
URL:https://www.hastingsmn.org/events/details/higher-education-veterans-program-04-13-2010-111561
END:VEVENT

END:VCALENDAR
