BEGIN:VCALENDAR
VERSION:2.0
PRODID:-//ChamberMaster//Event Calendar 2.0//EN
METHOD:PUBLISH
X-PUBLISHED-TTL:P3D
REFRESH-INTERVAL:P3D
CALSCALE:GREGORIAN
BEGIN:VEVENT
DTSTART:20091211T170000Z
DTEND:20091211T230000Z
X-MICROSOFT-CDO-ALLDAYEVENT:FALSE
SUMMARY:Hidden Greens Golf Course Open House
DESCRIPTION:Hidden Greens Golf Course Open House.  Register to win a golf passbook\, a $400 value!
X-ALT-DESC;FMTTYPE=text/html:<div>Hidden Greens Golf Course Open House.&nbsp\; Register to win a golf passbook\, a $400 value!</div>
LOCATION:12977 - 200th Street East Hastings\, MN 55033
UID:e.606.111238
SEQUENCE:3
DTSTAMP:20260426T000551Z
URL:https://www.hastingsmn.org/events/details/hidden-greens-golf-course-open-house-12-11-2009-111238
END:VEVENT

END:VCALENDAR
