BEGIN:VCALENDAR
VERSION:2.0
PRODID:-//ChamberMaster//Event Calendar 2.0//EN
METHOD:PUBLISH
X-PUBLISHED-TTL:P3D
REFRESH-INTERVAL:P3D
CALSCALE:GREGORIAN
BEGIN:VEVENT
DTSTART:20101210T170000Z
DTEND:20101211T230000Z
X-MICROSOFT-CDO-ALLDAYEVENT:FALSE
SUMMARY:Hidden Greens Golf Course HOLIDAY SALE
DESCRIPTION:Holiday Sale for the golfer on your Christmas list.  Stop by to pick up golf passes\, gift cards\, golf apparel\, & more for this Christmas.  Free cookies and hot chocolate provided for all shoppers!
X-ALT-DESC;FMTTYPE=text/html:Holiday Sale for the golfer on your Christmas list.  Stop by to pick up golf passes\, gift cards\, golf apparel\, &amp\; more for this Christmas.  Free cookies and hot chocolate provided for all shoppers!
LOCATION:12977 - 200th Street East
UID:e.606.112005
SEQUENCE:3
DTSTAMP:20260425T111534Z
URL:https://www.hastingsmn.org/events/details/hidden-greens-golf-course-holiday-sale-12-10-2010-112005
END:VEVENT

END:VCALENDAR
