BEGIN:VCALENDAR
VERSION:2.0
PRODID:-//ChamberMaster//Event Calendar 2.0//EN
METHOD:PUBLISH
X-PUBLISHED-TTL:P3D
REFRESH-INTERVAL:P3D
CALSCALE:GREGORIAN
BEGIN:VEVENT
DTSTART:20110520T230000Z
DTEND:20110521T020000Z
X-MICROSOFT-CDO-ALLDAYEVENT:FALSE
SUMMARY:Hidden Greens Golf Course Couples Date Night
DESCRIPTION:Make a date with your significant other to golf!  Hidden Greens Golf Course's monthly Couples Date Night is back with a 6:00 pm shotgun start and new themes each month!  This month is "Wear Your Favorite Golf Brand"!  $50 per couple includes golf\, prizes\, dinner\, & 2 drink tickets.  Reservations required!  Make a date today!
X-ALT-DESC;FMTTYPE=text/html:Make a date with your significant other to golf!&nbsp\; Hidden Greens Golf&nbsp\;Course&#39\;s&nbsp\;monthly Couples Date Night is back with a 6:00 pm shotgun start and new themes each month!&nbsp\; This month is &quot\;Wear Your Favorite Golf Brand&quot\;!&nbsp\; $50 per couple includes golf\, prizes\, dinner\, &amp\; 2 drink tickets.&nbsp\; Reservations required!&nbsp\; Make a date today!
LOCATION:Hidden Greens Golf Course 12977 - 200th Street East Hastings\, MN 55033
UID:e.606.112792
SEQUENCE:3
DTSTAMP:20260421T041446Z
URL:https://www.hastingsmn.org/events/details/hidden-greens-golf-course-couples-date-night-05-20-2011-112792
END:VEVENT

END:VCALENDAR
