BEGIN:VCALENDAR
VERSION:2.0
PRODID:-//ChamberMaster//Event Calendar 2.0//EN
METHOD:PUBLISH
X-PUBLISHED-TTL:P3D
REFRESH-INTERVAL:P3D
CALSCALE:GREGORIAN
BEGIN:VEVENT
DTSTART;VALUE=DATE:20110620
DTEND;VALUE=DATE:20110625
TRANSP:TRANSPARENT
X-MICROSOFT-CDO-ALLDAYEVENT:TRUE
SUMMARY:Hidden Greens 35th Anniversary
DESCRIPTION:Hidden Greens Golf Course Celebrates 35 Years!\n\nThe anniversary celebration will take place Monday-Friday\, June 20-24. \n\nSpecials on golf\, range tokens\, lunch\, & more:\n\n$35 for 18 holes & 1/2 cart\n\n$3.50 for a bucket of balls\n\n$3.50 box lunch special\n\n$0.35 small tap beer
X-ALT-DESC;FMTTYPE=text/html:<span style="color: #008000"><strong>Hidden Greens Golf Course Celebrates 35 Years!</strong></span><br />\nThe anniversary celebration will take place Monday-Friday\,&nbsp\;June 20-24.&nbsp\;<br />\nSpecials on golf\, range tokens\, lunch\, &amp\; more:<br />\n$35 for 18 holes &amp\; 1/2 cart<br />\n$3.50 for a bucket of balls<br />\n$3.50 box lunch special<br />\n$0.35 small tap beer<br />\n
LOCATION:Hidden Greens Golf Course 12977-200th Street East\, Hastings\, MN
UID:e.606.113269
SEQUENCE:3
DTSTAMP:20260421T023252Z
URL:https://www.hastingsmn.org/events/details/hidden-greens-35th-anniversary-06-20-2011-113269
END:VEVENT

END:VCALENDAR
