BEGIN:VCALENDAR
VERSION:2.0
PRODID:-//ChamberMaster//Event Calendar 2.0//EN
METHOD:PUBLISH
X-PUBLISHED-TTL:P3D
REFRESH-INTERVAL:P3D
CALSCALE:GREGORIAN
BEGIN:VEVENT
DTSTART:20110805T000000Z
DTEND:20110805T003000Z
X-MICROSOFT-CDO-ALLDAYEVENT:FALSE
SUMMARY:Hastings YMCA Duck Races
DESCRIPTION:The Hastings Area YMCA Rivertown Days Duck Races needed to be rescheduled due to high waters. The race be held today along the Vermillion River.   Join them today as the ducks race to the finish line!
X-ALT-DESC;FMTTYPE=text/html:The Hastings Area YMCA Rivertown Days Duck Races needed to be rescheduled&nbsp\;due to high waters.&nbsp\;The race&nbsp\;be&nbsp\;held today&nbsp\;along the Vermillion&nbsp\;River.&nbsp\; &nbsp\;Join them today as the ducks race to the finish line!&nbsp\; 
LOCATION:Along Vermillion River. Near Pine Street area.
UID:e.606.113292
SEQUENCE:3
DTSTAMP:20260420T224626Z
URL:https://www.hastingsmn.org/events/details/hastings-ymca-duck-races-08-04-2011-113292
END:VEVENT

END:VCALENDAR
