BEGIN:VCALENDAR
VERSION:2.0
PRODID:-//ChamberMaster//Event Calendar 2.0//EN
METHOD:PUBLISH
X-PUBLISHED-TTL:P3D
REFRESH-INTERVAL:P3D
CALSCALE:GREGORIAN
BEGIN:VEVENT
DTSTART;VALUE=DATE:20130127
DTEND;VALUE=DATE:20130128
TRANSP:TRANSPARENT
X-MICROSOFT-CDO-ALLDAYEVENT:TRUE
SUMMARY:Hastings Wedding Gala
DESCRIPTION:Hastings Country Club\n\n	2015 Westview Drive\n\n	For more information visit www.HastingsWeddingGala.com
X-ALT-DESC;FMTTYPE=text/html:<p>\n	Hastings Country Club<br />\n	2015 Westview Drive</p>\n<p>\n	For more information visit <a href="http://www.hastingsweddinggala.com/">www.HastingsWeddingGala.com</a></p>\n
LOCATION:
UID:e.606.113744
SEQUENCE:3
DTSTAMP:20260419T181618Z
URL:https://www.hastingsmn.org/events/details/hastings-wedding-gala-01-27-2013-113744
END:VEVENT

END:VCALENDAR
