BEGIN:VCALENDAR
VERSION:2.0
PRODID:-//ChamberMaster//Event Calendar 2.0//EN
METHOD:PUBLISH
X-PUBLISHED-TTL:P3D
REFRESH-INTERVAL:P3D
CALSCALE:GREGORIAN
BEGIN:VEVENT
DTSTART:20100124T180000Z
DTEND:20100124T220000Z
X-MICROSOFT-CDO-ALLDAYEVENT:FALSE
SUMMARY:Hastings Wedding Gala
DESCRIPTION:Plan your special day at the Hastings Wedding Gala.Area vendors can assist you with every aspect of your wedding day\, register for door prizes and drawings.
X-ALT-DESC;FMTTYPE=text/html:<div><p><span style="font-size: x-small"><span style="font-family: Arial">Plan your special day at the Hastings Wedding Gala.</span></span></p><p><span style="font-size: x-small"><span style="font-family: Arial">Area vendors can assist you with every aspect of your wedding day\, register for door prizes and drawings. </span></span><i><span style="font-family: &quot\;Times New Roman&quot\;\; font-size: 12pt"><o:p></o:p></span></i></p></div>
LOCATION:Hastings Country Club2015 Westview DriveHastings\, MN
UID:e.606.111234
SEQUENCE:3
DTSTAMP:20260425T224716Z
URL:https://www.hastingsmn.org/events/details/hastings-wedding-gala-01-24-2010-111234
END:VEVENT

END:VCALENDAR
