BEGIN:VCALENDAR
VERSION:2.0
PRODID:-//ChamberMaster//Event Calendar 2.0//EN
METHOD:PUBLISH
X-PUBLISHED-TTL:P3D
REFRESH-INTERVAL:P3D
CALSCALE:GREGORIAN
BEGIN:VEVENT
DTSTART:20120122T180000Z
DTEND:20120122T210000Z
X-MICROSOFT-CDO-ALLDAYEVENT:FALSE
SUMMARY:Hastings Wedding Gala
DESCRIPTION:Plan your special day at the Hastings Wedding Gala.\n	\n		Area vendors can assist you with every aspect of your wedding day\, register for door prizes and drawings.
X-ALT-DESC;FMTTYPE=text/html:<div>\n	<p>\n		<span style="font-size: 12px">Plan your special day at the Hastings Wedding Gala.</span></p>\n	<p>\n		<span style="font-size: 12px">Area vendors can assist you with every aspect of your wedding day\, register for door prizes and drawings. </span></p>\n</div>\n
LOCATION:Hastings Country Club2015 Westview DriveHastings\, MN
UID:e.606.113338
SEQUENCE:3
DTSTAMP:20260420T141637Z
URL:https://www.hastingsmn.org/events/details/hastings-wedding-gala-01-22-2012-113338
END:VEVENT

END:VCALENDAR
