BEGIN:VCALENDAR
VERSION:2.0
PRODID:-//ChamberMaster//Event Calendar 2.0//EN
METHOD:PUBLISH
X-PUBLISHED-TTL:P3D
REFRESH-INTERVAL:P3D
CALSCALE:GREGORIAN
BEGIN:VEVENT
DTSTART:20130326T223000Z
DTEND:20130327T010000Z
X-MICROSOFT-CDO-ALLDAYEVENT:FALSE
SUMMARY:Hastings Tastings
DESCRIPTION:Eighteenth Annual - Hastings Tastings\n\nFine Dining | Silent Auction | Entertainment | Raffles\n\n\n\nCome out for a night of fun\, delicious food\, grand silent auction baskets\, and exciting raffles...ALL TO SUPPORT THE FOOD SHELF AT HASTINGS FAMILY SERVICE\n\n\n\nHastings Tastings is the culmination event for fundraising efforts for Minnesota FoodShare month and the Alan Shawn Feinstein Million Dollar Challenge to Fight Hunger. Please join us at Hastings Tastings 2013!\n\n\n\nTICKETS\n\n$30/advance $35/at the door\n\nNOW AVAILABLE ONLINE at: http://hastingstastings.bpt.me/\n\nand in-person at the following locations:\n\n\n\nRivertown Treasures | Hastings Family Service | Coborn's (Service desk) | Cub Foods (Service desk) | Hastings Community Education |Hastings YMCA | KDWA AM 1460 Radio | MDK Design for Hair | Merchants Bank\n\n\n\n---------------------------------------------------------\n\n\n\nThe raffles are for "99 bottles of Beer"\, the "Wall of Wine"\, and participating restaurant gift cards.\n\n\n\nYour $30 ticket purchase helps HFS buy up to 250 pounds of food\, feeding a family of 5 for over a week!\n\n\n\nFor a sneak peek of our silent auction items\, participating restaurants and more\, visit our website:\n\nhttp://www.hastingsfamilyservice.org/Hastings_Tastings.html
X-ALT-DESC;FMTTYPE=text/html:Eighteenth Annual - Hastings Tastings<br />\nFine Dining | Silent Auction | Entertainment | Raffles<br />\n<br />\nCome out for a night of fun\, delicious food\, grand silent auction baskets\, and exciting raffles...ALL TO SUPPORT THE FOOD SHELF AT HASTINGS FAMILY SERVICE<br />\n<br />\nHastings Tastings is the culmination event for fundraising efforts for Minnesota FoodShare month and the Alan Shawn Feinstein Million Dollar Challenge to Fight Hunger. Please join us at Hastings Tastings 2013!<br />\n<br />\nTICKETS<br />\n$30/advance $35/at the door<br />\nNOW AVAILABLE ONLINE at: http://hastingstastings.bpt.me/<br />\nand in-person at the following locations:<br />\n<br />\nRivertown Treasures | Hastings Family Service | Coborn&#39\;s (Service desk) | Cub Foods (Service desk) | Hastings Community Education |Hastings YMCA | KDWA AM 1460 Radio | MDK Design for Hair | Merchants Bank<br />\n<br />\n---------------------------------------------------------<br />\n<br />\nThe raffles are for &quot\;99 bottles of Beer&quot\;\, the &quot\;Wall of Wine&quot\;\, and participating restaurant gift cards.<br />\n<br />\nYour $30 ticket purchase helps HFS buy up to 250 pounds of food\, feeding a family of 5 for over a week!<br />\n<br />\nFor a sneak peek of our silent auction items\, participating restaurants and more\, visit our website:<br />\nhttp://www.hastingsfamilyservice.org/Hastings_Tastings.html
LOCATION:Saint Elizabeth Ann Seton Church Social Hall 2035 W 15th St\, Hastings MN
UID:e.606.113779
SEQUENCE:3
DTSTAMP:20260419T131330Z
URL:https://www.hastingsmn.org/events/details/hastings-tastings-03-26-2013-113779
END:VEVENT

END:VCALENDAR
