BEGIN:VCALENDAR
VERSION:2.0
PRODID:-//ChamberMaster//Event Calendar 2.0//EN
METHOD:PUBLISH
X-PUBLISHED-TTL:P3D
REFRESH-INTERVAL:P3D
CALSCALE:GREGORIAN
BEGIN:VEVENT
DTSTART:20120326T223000Z
DTEND:20120327T010000Z
X-MICROSOFT-CDO-ALLDAYEVENT:FALSE
SUMMARY:Hastings Tastings
DESCRIPTION:Hastings area restaurants donate food samples from their food menus for diner's enjoyment.  Silent Auction.  Fundraiser to support the programs of Hastings Family Service.
X-ALT-DESC;FMTTYPE=text/html:<div><div style="margin: 0in 0in 0pt"><span style="font-size: 7.5pt">Hastings area restaurants donate food samples from their food menus for diner's enjoyment.&nbsp\; Silent Auction.&nbsp\; Fundraiser to support the programs of Hastings Family Service.&nbsp\;&nbsp\; </span></div></div>
LOCATION:Watch for more details.
UID:e.606.113396
SEQUENCE:3
DTSTAMP:20260420T100920Z
URL:https://www.hastingsmn.org/events/details/hastings-tastings-03-26-2012-113396
END:VEVENT

END:VCALENDAR
