BEGIN:VCALENDAR
VERSION:2.0
PRODID:-//ChamberMaster//Event Calendar 2.0//EN
METHOD:PUBLISH
X-PUBLISHED-TTL:P3D
REFRESH-INTERVAL:P3D
CALSCALE:GREGORIAN
BEGIN:VEVENT
DTSTART:20130419T230000Z
DTEND:20130420T020000Z
X-MICROSOFT-CDO-ALLDAYEVENT:FALSE
SUMMARY:Hastings Prescott Area Arts Council Gallery Gala
DESCRIPTION:Music - Art - Silent & Live Auction - Gormet Food - Full Cash Bar\n\nComplimentary Glass of Wine with Dinner\n\n\n\nHastings Prescott Area Arts Council is proud to announce our 2nd annual premiere fundraiser\, the 2013 Gallery Gala.  Last year's event was a huge success\, largely due to dedicated HPAAC members\, their friends and families.  This year's event is shaping up to be another spectacular evening\, filled with great entertainment\, art\, music\, and food. \n\n\n\nWe are especially excited to celebrate this year's Art Heroes:\n\nJanet Martin and Ken & Deanna Roen.\n\n\n\nTickets are limited.
X-ALT-DESC;FMTTYPE=text/html:Music - Art - Silent &amp\; Live Auction - Gormet Food - Full Cash Bar<br />\nComplimentary Glass of Wine with Dinner<br />\n<br />\nHastings Prescott Area Arts Council is proud to announce our 2nd annual premiere fundraiser\, the 2013 Gallery Gala.&nbsp\; Last year&#39\;s event was a huge success\, largely due to dedicated HPAAC members\, their friends and families.&nbsp\; This year&#39\;s event is shaping up to be another spectacular evening\, filled with great entertainment\, art\, music\, and food.&nbsp\;<br />\n<br />\nWe are especially excited to celebrate this year&#39\;s Art Heroes:<br />\nJanet Martin and Ken &amp\; Deanna Roen.<br />\n<br />\nTickets are limited.
LOCATION:St. Elizabeth Ann Seton Church 2035 15th St W Hastings\, Mn
UID:e.606.113800
SEQUENCE:3
DTSTAMP:20260419T150857Z
URL:https://www.hastingsmn.org/events/details/hastings-prescott-area-arts-council-gallery-gala-04-19-2013-113800
END:VEVENT

END:VCALENDAR
