BEGIN:VCALENDAR
VERSION:2.0
PRODID:-//ChamberMaster//Event Calendar 2.0//EN
METHOD:PUBLISH
X-PUBLISHED-TTL:P3D
REFRESH-INTERVAL:P3D
CALSCALE:GREGORIAN
BEGIN:VEVENT
DTSTART:20130615T150000Z
DTEND:20130615T220000Z
X-MICROSOFT-CDO-ALLDAYEVENT:FALSE
SUMMARY:Hastings Prescott Area Art Council's 2013 Art in the Garden Tour
DESCRIPTION:Save the date for the Hastings Prescott Area Art Council's 2013 Art in the Garden Tour!\n\n	\n\n	The Hastings Prescott Area Art Council (HPAAC) will be sponsoring their Art in the Garden tour on June 15th from 10 a.m. to 5 p.m.  The eight gardens that comprise the 2013 tour provide a potpourri of styles that promise to enchant and inspire the visitor with artfully planted spaces\, water features and "upcycled" items turned into garden art.  In addition\, each garden will showcase musicians and visual artists.  \n\n	 \n\n	HPAAC is a non-profit organization whose mission is to support local artists of all genres.  The proceeds of this event will go toward supporting art education in the Hastings and Prescott area.\n\n	 \n\n	Tickets will be available previous to the tour date for $10.00\, the day of the tour they will be $15.00.  Garden locations with a map to all of the gardens will be printed in the ticket books. \n\n	 \n\n	For more information contact Heidi Langenfeld at: 651-208-6665 or heidi38ries@embarqmail.com
X-ALT-DESC;FMTTYPE=text/html:<div style="color: gray">\n	<strong><span style="color: #456520"><span style="font-family: arial\, sans-serif">Save the date for the Hastings Prescott Area Art Council&rsquo\;s 2013 Art in the Garden Tour!</span></span></strong><br />\n	<br />\n	<span style="color: #353535"><span style="font-family: arial\, sans-serif">The Hastings Prescott Area Art Council (HPAAC) will be sponsoring their Art in the Garden tour on June 15<sup><span style="font-size: small">th</span></sup></span> from 10 a.m. to 5 p.m.&nbsp\; The eight gardens that comprise the 2013 tour provide a potpourri of styles that promise to enchant and inspire the visitor with artfully planted spaces\, water features and &ldquo\;upcycled&rdquo\; items turned into garden art.&nbsp\; In addition\, each garden will showcase musicians and visual artists.&nbsp\;&nbsp\;</span><br />\n	&nbsp\;<br />\n	<span style="color: #353535"><span style="font-family: arial\, sans-serif">HPAAC is a non-profit organization whose mission is to support local artists of all genres.&nbsp\; The proceeds of this event will go toward supporting art education in the Hastings and Prescott area.</span></span><br />\n	&nbsp\;<br />\n	<span style="color: #353535"><span style="font-family: arial\, sans-serif">Tickets will be available previous to the tour date for $10.00\, the day of the tour they will be $15.00.&nbsp\; <font color="#353535">Garden locations with a map to all of the gardens will be printed in the ticket books.&nbsp\;</font><br />\n	<span _fck_bookmark="1" style="display: none">&nbsp\;</span></span></span><br />\n	<span style="color: #353535"><span style="font-family: arial\, sans-serif">For more information contact Heidi Langenfeld at: 651-208-6665 or <span style="color: #330099">heidi38ries@embarqmail.com</span></span></span></div>\n
LOCATION:Garden locations with a map to all of the gardens will be printed in the ticket books.
UID:e.606.113766
SEQUENCE:3
DTSTAMP:20260421T082933Z
URL:https://www.hastingsmn.org/events/details/hastings-prescott-area-art-council-s-2013-art-in-the-garden-tour-06-15-2013-113766
END:VEVENT

END:VCALENDAR
