BEGIN:VCALENDAR
VERSION:2.0
PRODID:-//ChamberMaster//Event Calendar 2.0//EN
METHOD:PUBLISH
X-PUBLISHED-TTL:P3D
REFRESH-INTERVAL:P3D
CALSCALE:GREGORIAN
BEGIN:VEVENT
DTSTART:20110806T200000Z
DTEND:20110807T030000Z
X-MICROSOFT-CDO-ALLDAYEVENT:FALSE
SUMMARY:Hastings Music Festival
DESCRIPTION:Bring your lawn chairs\, and sunscreen to the third annual Hastings Music Festival!\n\n	Music by Crow\, Keri Noble\, the Midlife Chrsylers\, Patrick Sieben and Select 3.\n\n	Food\, Fun and a Silent Auction\n\n	All proceeds donated to Hastings Family Service.
X-ALT-DESC;FMTTYPE=text/html:<div>\n	Bring your lawn chairs\, and sunscreen to the&nbsp\;third annual Hastings Music Festival!</div>\n<div>\n	Music by Crow\, Keri Noble\, the Midlife Chrsylers\, Patrick Sieben&nbsp\;and Select 3.</div>\n<div>\n	Food\, Fun and a Silent Auction</div>\n<div>\n	All proceeds donated to Hastings Family Service.<span _fck_bookmark="1" style="display: none">&nbsp\;</span></div>\n
LOCATION:Along Mississippi Riverfront - Jaycee Park - west side of bridge
UID:e.606.113294
SEQUENCE:3
DTSTAMP:20260420T225207Z
URL:https://www.hastingsmn.org/events/details/hastings-music-festival-08-06-2011-113294
END:VEVENT

END:VCALENDAR
