BEGIN:VCALENDAR
VERSION:2.0
PRODID:-//ChamberMaster//Event Calendar 2.0//EN
METHOD:PUBLISH
X-PUBLISHED-TTL:P3D
REFRESH-INTERVAL:P3D
CALSCALE:GREGORIAN
BEGIN:VEVENT
DTSTART:20100613T160000Z
DTEND:20100614T000000Z
X-MICROSOFT-CDO-ALLDAYEVENT:FALSE
SUMMARY:Hastings Music Festival
DESCRIPTION:Bring your lawn chairs\, and sunscreen to the second annual Hastings Music Festival! Music by Martin Zellar\, tim Mahoney\, the Midlife Chrsylers and Select 3.    Food\, Fun and a Silent Auction All proceeds donated to Hastings Family Service.
X-ALT-DESC;FMTTYPE=text/html:<div>Bring your lawn chairs\, and sunscreen to the second annual Hastings Music Festival!</div><div>&nbsp\;</div><div>Music by Martin Zellar\, tim Mahoney\, the Midlife Chrsylers and Select 3.&nbsp\;&nbsp\;&nbsp\;</div><div>&nbsp\;</div><div>Food\, Fun and a Silent Auction</div><div>&nbsp\;</div><div>All proceeds donated to Hastings Family Service.</div>
LOCATION:Little Log House Pioneer Village\, 21889 Michael Avenue in Hastings. To get to the event\, take Highway 61 south 6 miles out of Hastings. Turn left on 220th Street East\, and travel 1/4 mile. The village will be on your left.
UID:e.606.111552
SEQUENCE:3
DTSTAMP:20260425T153814Z
URL:https://www.hastingsmn.org/events/details/hastings-music-festival-06-13-2010-111552
END:VEVENT

END:VCALENDAR
