BEGIN:VCALENDAR
VERSION:2.0
PRODID:-//ChamberMaster//Event Calendar 2.0//EN
METHOD:PUBLISH
X-PUBLISHED-TTL:P3D
REFRESH-INTERVAL:P3D
CALSCALE:GREGORIAN
BEGIN:VEVENT
DTSTART:20130215T010000Z
DTEND:20130215T030000Z
X-MICROSOFT-CDO-ALLDAYEVENT:FALSE
SUMMARY:Hastings Military and Veterran Valetine's Day
DESCRIPTION:You can't beat the prices of   price burgers and offered specials with a five (5) dollar discount per servicemember\, veteran\, and spouse/significant other when proper identification is presented prior to ordering (Military. Veteran services organization membership card\, or DD 214 (Military Discharge Certificate). Entertainment by the Hastings High School Music Department.
X-ALT-DESC;FMTTYPE=text/html:<p class="MsoNormal" style="margin: 0in 0in 0pt">\n	<span style="font-family: 'arial'\, 'sans-serif'\; font-size: 11pt\; mso-bidi-font-size: 12.0pt\; mso-bidi-font-family: 'times new roman'"><font color="#000000">You can&rsquo\;t beat the prices of &frac12\; price burgers and offered specials with a five (5) dollar discount per servicemember\, veteran\, and spouse/significant other when proper identification is presented prior to ordering (Military. Veteran services organization membership card\, or DD 214 (Military Discharge Certificate). Entertainment by the Hastings High School Music Department. <o:p></o:p></font></span></p>\n
LOCATION:2nd Street Depot Bar & Grill\, 320 East Street. Hastings\, MN
UID:e.606.113767
SEQUENCE:3
DTSTAMP:20260419T150712Z
URL:https://www.hastingsmn.org/events/details/hastings-military-and-veterran-valetine-s-day-02-14-2013-113767
END:VEVENT

END:VCALENDAR
