BEGIN:VCALENDAR
VERSION:2.0
PRODID:-//ChamberMaster//Event Calendar 2.0//EN
METHOD:PUBLISH
X-PUBLISHED-TTL:P3D
REFRESH-INTERVAL:P3D
CALSCALE:GREGORIAN
BEGIN:VEVENT
DTSTART:20120825T220000Z
DTEND:20120826T020000Z
X-MICROSOFT-CDO-ALLDAYEVENT:FALSE
SUMMARY:Hastings Historic Saturday Night Cruise-In
DESCRIPTION:Saturday Night Cruise-ins are open to all cars 1976 and older. There will be sponsor giveaways\, special nightly vendors and more. This free event is a great time to see classics\, muscle cars\, hot rods\, custom and restored cars.
X-ALT-DESC;FMTTYPE=text/html:<div><div>Saturday Night Cruise-ins are open to all cars 1976 and older. There will be sponsor giveaways\, special nightly vendors and more. This free event is a great time to see classics\, muscle cars\, hot rods\, custom and restored cars.</div></div>
LOCATION:2nd Street East in Downtown Hastings.
UID:e.606.113387
SEQUENCE:3
DTSTAMP:20260420T013529Z
URL:https://www.hastingsmn.org/events/details/hastings-historic-saturday-night-cruise-in-08-25-2012-113387
END:VEVENT

END:VCALENDAR
