BEGIN:VCALENDAR
VERSION:2.0
PRODID:-//ChamberMaster//Event Calendar 2.0//EN
METHOD:PUBLISH
X-PUBLISHED-TTL:P3D
REFRESH-INTERVAL:P3D
CALSCALE:GREGORIAN
BEGIN:VEVENT
DTSTART:20111008T220000Z
DTEND:20111009T030000Z
X-MICROSOFT-CDO-ALLDAYEVENT:FALSE
SUMMARY:Hastings High School Alumni Banquet
DESCRIPTION:128th Annual Alumni Meeting/Banquet\n\n\n\nSocial Hour/Cash Bar 5 p.m.\n\nDinner 6 p.m.\n\nBrief Meeting following Dinner\n\nSocial Time
X-ALT-DESC;FMTTYPE=text/html:128th Annual Alumni Meeting/Banquet<br />\n<br />\nSocial Hour/Cash Bar 5 p.m.<br />\nDinner 6 p.m.<br />\nBrief Meeting following Dinner<br />\nSocial Time
LOCATION:The Point Restaurant Hwy. 61 & 10 Hastings\, MN 55033
UID:e.606.113293
SEQUENCE:3
DTSTAMP:20260420T192405Z
URL:https://www.hastingsmn.org/events/details/hastings-high-school-alumni-banquet-10-08-2011-113293
END:VEVENT

END:VCALENDAR
