BEGIN:VCALENDAR
VERSION:2.0
PRODID:-//ChamberMaster//Event Calendar 2.0//EN
METHOD:PUBLISH
X-PUBLISHED-TTL:P3D
REFRESH-INTERVAL:P3D
CALSCALE:GREGORIAN
BEGIN:VEVENT
DTSTART:20110911T160000Z
DTEND:20110911T210000Z
X-MICROSOFT-CDO-ALLDAYEVENT:FALSE
SUMMARY:Hastings Fire Department Relief Assoc. Booya
DESCRIPTION:Hastings Fire Department Relief Assoc. Annual Booya
X-ALT-DESC;FMTTYPE=text/html:Hastings Fire Department Relief Assoc. Annual Booya&nbsp\;<span _fck_bookmark="1" style="display: none">&nbsp\;</span>
LOCATION:Knights of Columbus Hall Hwy 61 South
UID:e.606.112794
SEQUENCE:3
DTSTAMP:20260420T205231Z
URL:https://www.hastingsmn.org/events/details/hastings-fire-department-relief-assoc-booya-09-11-2011-112794
END:VEVENT

END:VCALENDAR
