BEGIN:VCALENDAR
VERSION:2.0
PRODID:-//ChamberMaster//Event Calendar 2.0//EN
METHOD:PUBLISH
X-PUBLISHED-TTL:P3D
REFRESH-INTERVAL:P3D
CALSCALE:GREGORIAN
BEGIN:VEVENT
DTSTART:20110402T140000Z
DTEND:20110402T170000Z
X-MICROSOFT-CDO-ALLDAYEVENT:FALSE
SUMMARY:Hastings Family Expo
DESCRIPTION:This event\, sponsored by the Hastings Area Professionals Network (HAPN)\, is an fun family family event\, enjoy games\, win door prizes\, and obtain community information about fun family activities this summer.\n\n	See a police car\, fire truck\, and water patrol vehicles. There will be face painting\, kids' games\, and door prizes galore. Come enjoy Schoolhouse Scoop Ice Cream too!
X-ALT-DESC;FMTTYPE=text/html:<p>\n	This event\, sponsored by the Hastings Area Professionals Network (HAPN)\, is an fun family family event\, enjoy games\, win door prizes\, and&nbsp\;obtain community information about fun family activities this summer.</p>\n<p>\n	See a police car\, fire truck\, and water patrol vehicles. There will be face painting\, kids&#39\; games\, and door prizes galore. Come enjoy Schoolhouse Scoop Ice Cream too!&nbsp\;<span _fck_bookmark="1" style="display: none">&nbsp\;</span></p>\n
LOCATION:Schoolhouse Square\, Hwy 61 and 10th Street
UID:e.606.112477
SEQUENCE:3
DTSTAMP:20260421T075354Z
URL:https://www.hastingsmn.org/events/details/hastings-family-expo-04-02-2011-112477
END:VEVENT

END:VCALENDAR
