BEGIN:VCALENDAR
VERSION:2.0
PRODID:-//ChamberMaster//Event Calendar 2.0//EN
METHOD:PUBLISH
X-PUBLISHED-TTL:P3D
REFRESH-INTERVAL:P3D
CALSCALE:GREGORIAN
BEGIN:VEVENT
DTSTART:20130516T233000Z
DTEND:20130517T013000Z
X-MICROSOFT-CDO-ALLDAYEVENT:FALSE
SUMMARY:Hastings Environmental Protectors Invites you to hear Biologist Dr. Judy Helgen
DESCRIPTION:Hastings Environmental Protectors (HEP) invites you to meet and listen to Dr. Judy Helgen\, biologist and author of Peril in the Ponds: Deformed Frogs\, Politics\, and a Biologist's Quest.  Judy will talk about her research on the phenomenon of deformed frogs found in Minnesota wetlands in the 1990s\, the continued threat today\, and the problems facing our wetlands. \n\n	Anyone concerned with preserving our natural heritage and with issues of water quality should attend this event.  An open discussion will follow Dr. Helgen's presentation.
X-ALT-DESC;FMTTYPE=text/html:<div style="color: gray">\n	Hastings Environmental Protectors (HEP) invites you to meet and listen to Dr. Judy Helgen\, biologist and author of <i style="font-weight: bold">Peril in the Ponds: Deformed Frogs\, Politics\, and a Biologist&#39\;s Quest.&nbsp\; </i>Judy will talk about her research on the phenomenon of deformed frogs found in Minnesota&nbsp\;wetlands&nbsp\;in the 1990s\, the continued threat today\, and the problems facing our wetlands.&nbsp\;<br />\n	Anyone concerned with preserving our natural heritage and with issues of water quality should attend this event. &nbsp\;An open discussion will follow Dr. Helgen&#39\;s presentation.</div>\n
LOCATION:Pleasant Hill Library meeting room.
UID:e.606.113828
SEQUENCE:3
DTSTAMP:20260421T082804Z
URL:https://www.hastingsmn.org/events/details/hastings-environmental-protectors-invites-you-to-hear-biologist-dr-judy-helgen-05-16-2013-113828
END:VEVENT

END:VCALENDAR
