BEGIN:VCALENDAR
VERSION:2.0
PRODID:-//ChamberMaster//Event Calendar 2.0//EN
METHOD:PUBLISH
X-PUBLISHED-TTL:P3D
REFRESH-INTERVAL:P3D
CALSCALE:GREGORIAN
BEGIN:VEVENT
DTSTART:20130309T150000Z
DTEND:20130309T180000Z
X-MICROSOFT-CDO-ALLDAYEVENT:FALSE
SUMMARY:Hastings Community Health Fair
DESCRIPTION:The Hastings Community Health Fair will be a great opportunity to meet  with and learn more about health advocates in the community.   Join us for a morning of fun for all ages.  There will be drawings\, yummy foods\, kids activities\, a GIANT colon - something sure to be of interest to everyone! \n\nFor more information\, please contact Robin Halloum at:\n\n651.480.4198 before March 1\n\n651.404.1350 new number effective March 1\n\nRobin.Halloum@reginamedical.org
X-ALT-DESC;FMTTYPE=text/html:The Hastings Community Health Fair will be a great opportunity to meet&nbsp\; with and learn more about health advocates in the community.&nbsp\;&nbsp\; Join us for a morning of fun for all ages.&nbsp\; There will be drawings\, yummy foods\, kids activities\, a GIANT colon - s<em>omething sure to be of interest to everyone</em>!&nbsp\;<br />\nFor more information\, please contact Robin Halloum at:<br />\n651.480.4198 <em><strong>before</strong></em> March 1<br />\n651.404.1350 new number effective March 1<br />\nRobin.Halloum@reginamedical.org
LOCATION:Hastings High School Gymnasium
UID:e.606.113786
SEQUENCE:3
DTSTAMP:20260419T150523Z
URL:https://www.hastingsmn.org/events/details/hastings-community-health-fair-03-09-2013-113786
END:VEVENT

END:VCALENDAR
