BEGIN:VCALENDAR
VERSION:2.0
PRODID:-//ChamberMaster//Event Calendar 2.0//EN
METHOD:PUBLISH
X-PUBLISHED-TTL:P3D
REFRESH-INTERVAL:P3D
CALSCALE:GREGORIAN
BEGIN:VEVENT
DTSTART:20120125T000000Z
DTEND:20120125T033000Z
X-MICROSOFT-CDO-ALLDAYEVENT:FALSE
SUMMARY:Hastings Chamber's Annual Meeting & Dinner (For Chamber Members & Their Guests)
DESCRIPTION:Mark your calendar and reserve the evening of Tuesday\, January 24\, 2012 for the Hastings Area Chamber's Annual Meeting & Awards Dinner at the Hastings Country Club\, 2015 Westview Drive in Hastings.\n\n \n\nDuring the event\, we recognize the Business of the Year\, Volunteer of the Year and Educator of the Year.  It is also an opportunity to recognize outgoing Board members and to welcome new Board members.\n\n \n\nJoin us for this wonderful evening of great food\, friends\, and good fun.  Come alone\, with a guest or fill a table with friends and business associates and join your fellow Chamber members!
X-ALT-DESC;FMTTYPE=text/html:<span style="font-size: 11px\;"><span style="font-family: verdana\;"><span style="color: black\;">Mark your calendar and reserve the evening of Tuesday\, January 24\, 2012 for the Hastings Area Chamber&#39\;s Annual Meeting &amp\; Awards Dinner at the Hastings Country Club\, 2015 Westview Drive in Hastings.</span><br />\n&nbsp\;<br />\n<span style="color: black\;">During the event\, we recognize the Business of the Year\, Volunteer of the Year and Educator of the Year.&nbsp\; It is also an opportunity to recognize outgoing Board members and to welcome new Board members.</span><br />\n&nbsp\;<br />\n<span style="color: black\;">Join us for this wonderful evening of great food\, friends\, and good fun.&nbsp\; Come alone\, with a guest or fill a table with friends and business associates and join your fellow Chamber members!&nbsp\;&nbsp\;</span></span></span><br />\n&nbsp\;
LOCATION:Hastings Country Club\, 2015 Westview Drive\, Hastings\, MN 55033
UID:e.606.113370
SEQUENCE:3
DTSTAMP:20260420T142203Z
URL:https://www.hastingsmn.org/events/details/hastings-chamber-s-annual-meeting-dinner-for-chamber-members-their-guests-01-24-2012-113370
END:VEVENT

END:VCALENDAR
