BEGIN:VCALENDAR
VERSION:2.0
PRODID:-//ChamberMaster//Event Calendar 2.0//EN
METHOD:PUBLISH
X-PUBLISHED-TTL:P3D
REFRESH-INTERVAL:P3D
CALSCALE:GREGORIAN
BEGIN:VEVENT
DTSTART:20091107T160000Z
DTEND:20091115T230000Z
X-MICROSOFT-CDO-ALLDAYEVENT:FALSE
SUMMARY:Hastings Artists' Show at the LeDuc Historic Estate
DESCRIPTION:Local artists will have their works for sale with part of the proceeds going to the Dakota County Historical Society to help fund tours and displays at the LeDuc House. Among the artwork being displayed is blown glass\, raku pottery\, basketry\, rughooking\, photography\, felted wool art\, woodcarving and paintings in several media. Sponsored by Target.
X-ALT-DESC;FMTTYPE=text/html:<div>Local artists will have their works for sale with part of the proceeds going to the Dakota County Historical Society to help fund tours and displays at the LeDuc House. Among the artwork being displayed is blown glass\, raku pottery\, basketry\, rughooking\, photography\, felted wool art\, woodcarving and paintings in several media. Sponsored by Target.</div>
LOCATION:LeDuc Historic Estate\, 1629 Vermillion Street
UID:e.606.111110
SEQUENCE:3
DTSTAMP:20260426T012631Z
URL:https://www.hastingsmn.org/events/details/hastings-artists-show-at-the-leduc-historic-estate-11-07-2009-111110
END:VEVENT

END:VCALENDAR
