BEGIN:VCALENDAR
VERSION:2.0
PRODID:-//ChamberMaster//Event Calendar 2.0//EN
METHOD:PUBLISH
X-PUBLISHED-TTL:P3D
REFRESH-INTERVAL:P3D
CALSCALE:GREGORIAN
BEGIN:VEVENT
DTSTART:20101106T150000Z
DTEND:20101114T230000Z
X-MICROSOFT-CDO-ALLDAYEVENT:FALSE
SUMMARY:Hastings Artists Show at the LeDuc Historic Estate
DESCRIPTION:Public invited to FREE Hastings Artists Show to view and purchase art work in many media. Artists are Mel Agen\, Beth Bacon\, Anita Bahls\, Audrey Ceran\, Donna Christianson\, Amy Deaver\, Lisa Dolezal\, Andy Hill\, Emily & Dodi Hogstad\, Fran Jauquet\, Pauline Johanik\, Diana Langenfeld\, Mecca & George Manz\, Connie Misener\, Art Nordstrom\, Al Peterson\, Mildred Ruhr\, Al Todnem\, Susan Zinschlag\, Kathy Pohl\, Mary Gale\, Ruth Viste. Museum Shop open for holiday shopping
X-ALT-DESC;FMTTYPE=text/html:Public invited to FREE Hastings Artists Show to view and purchase art work in many media. Artists are Mel Agen\, Beth Bacon\, Anita Bahls\, Audrey Ceran\, Donna Christianson\, Amy Deaver\, Lisa Dolezal\, Andy Hill\, Emily &amp\; Dodi Hogstad\, Fran Jauquet\, Pauline Johanik\, Diana Langenfeld\, Mecca &amp\; George Manz\, Connie Misener\, Art Nordstrom\, Al Peterson\, Mildred Ruhr\, Al Todnem\, Susan Zinschlag\, Kathy Pohl\, Mary Gale\, Ruth Viste. Museum Shop open for holiday shopping
LOCATION:LeDuc Historic Estate 1629 Vermillion Street\, Hastings\, MN 55033
UID:e.606.112000
SEQUENCE:3
DTSTAMP:20260423T102122Z
URL:https://www.hastingsmn.org/events/details/hastings-artists-show-at-the-leduc-historic-estate-11-06-2010-112000
END:VEVENT

END:VCALENDAR
