BEGIN:VCALENDAR
VERSION:2.0
PRODID:-//ChamberMaster//Event Calendar 2.0//EN
METHOD:PUBLISH
X-PUBLISHED-TTL:P3D
REFRESH-INTERVAL:P3D
CALSCALE:GREGORIAN
BEGIN:VEVENT
DTSTART:20111105T150000Z
DTEND:20111113T230000Z
X-MICROSOFT-CDO-ALLDAYEVENT:FALSE
SUMMARY:Hastings Artists Show at the LeDuc Historic Estate
DESCRIPTION:Public invited to FREE Hastings Artists Show to view and purchase art work in many media. This exciting show and sale is sponsored by Dakota County Historical Society and the LeDuc Historic Estate.\n\n\n\nAdmission to this event is FREE.  There will not be guided tours ofthe Estate\, but the Museum Shop will be open for holiday shopping. Guests will want to check out the wide variety of books and gift items in the Museum Shop.\n\n\n\nThe very best work by more than a dozen talented painters\, photographers\, carvers\, potters\, fiber artists\, and more are gathered in one place.  The artists are:Mel Agen\, Beth Bacon\, Anita Bahls\, Donna Christianson\, Amy Deaver\, Lisa Dolezal\, Dave Gavin\, Andrew Hill\, Emily & Dodie Hogstad\, Diana Langenfeld\, Donna Lystrom\, Mecca & George Manz\, Connie Misener\, Art Nordstrom\, Kathy Pohl\, Judy Reierson\, Erica Reiff\, Al Todnem\, Bea Westerberg\, and Susan Zinschlag.
X-ALT-DESC;FMTTYPE=text/html:<span style="font-family: verdana"><span style="font-size: 11px">Public invited to FREE Hastings Artists Show to view and purchase art work in many media.&nbsp\;This exciting show and sale is sponsored by Dakota County Historical Society and the LeDuc Historic Estate.<br />\n<br />\nAdmission to this event is FREE. &nbsp\;There will not be guided tours ofthe Estate\, but the Museum Shop will be open for holiday shopping. Guests will want to check out the wide variety of books and gift items in the Museum Shop.<br />\n<br />\nThe very best work by more than a dozen talented painters\, photographers\, carvers\, potters\, fiber artists\, and more are gathered in one place. &nbsp\;The artists are:Mel Agen\, Beth Bacon\, Anita Bahls\, Donna Christianson\, Amy Deaver\, Lisa Dolezal\, Dave Gavin\, Andrew Hill\, Emily &amp\; Dodie Hogstad\, Diana Langenfeld\, Donna Lystrom\, Mecca &amp\; George Manz\, Connie Misener\, Art Nordstrom\, Kathy Pohl\, Judy Reierson\, Erica Reiff\, Al Todnem\, Bea Westerberg\, and Susan Zinschlag.</span></span><br />\n
LOCATION:LeDuc Historic Estate 1629 Vermillion Street\, Hastings\, MN 55033
UID:e.606.112232
SEQUENCE:3
DTSTAMP:20260420T173604Z
URL:https://www.hastingsmn.org/events/details/hastings-artists-show-at-the-leduc-historic-estate-11-05-2011-112232
END:VEVENT

END:VCALENDAR
