BEGIN:VCALENDAR
VERSION:2.0
PRODID:-//ChamberMaster//Event Calendar 2.0//EN
METHOD:PUBLISH
X-PUBLISHED-TTL:P3D
REFRESH-INTERVAL:P3D
CALSCALE:GREGORIAN
BEGIN:VEVENT
DTSTART:20121103T150000Z
DTEND:20121111T230000Z
X-MICROSOFT-CDO-ALLDAYEVENT:FALSE
SUMMARY:Hastings Artists Show at the LeDuc Historic Estate
DESCRIPTION:Admission is free but the experience is priceless!  A score of the most talented artists in the region transform the LeDuc Estate into a truly unique art gallery for nine days in November.  Most of the pieces of art are one-of-a-kind originals and range in price from $5 to $1\,000.
X-ALT-DESC;FMTTYPE=text/html:<span style="font-size: 11pt"><span style="color: black"><span style="font-family: calibri">Admission is free but the experience is priceless!&nbsp\; A score of the most talented artists in the region transform the LeDuc Estate into a truly unique art gallery for nine days in November.&nbsp\; Most of the pieces of art are one-of-a-kind originals and range in price from $5 to $1\,000.&nbsp\;&nbsp\;</span></span></span><span style="font-family: verdana"><span style="font-size: 11px"><span style="font-size: 11pt"><span style="color: black"><span style="font-family: calibri">&nbsp\;&nbsp\;</span></span></span></span></span><br />\n
LOCATION:LeDuc Historic Estate 1629 Vermillion Street\, Hastings\, MN 55033
UID:e.606.113378
SEQUENCE:3
DTSTAMP:20260419T202241Z
URL:https://www.hastingsmn.org/events/details/hastings-artists-show-at-the-leduc-historic-estate-11-03-2012-113378
END:VEVENT

END:VCALENDAR
