BEGIN:VCALENDAR
VERSION:2.0
PRODID:-//ChamberMaster//Event Calendar 2.0//EN
METHOD:PUBLISH
X-PUBLISHED-TTL:P3D
REFRESH-INTERVAL:P3D
CALSCALE:GREGORIAN
BEGIN:VEVENT
DTSTART:20110910T170000Z
DTEND:20110910T203000Z
X-MICROSOFT-CDO-ALLDAYEVENT:FALSE
SUMMARY:Hastings Armory Open House
DESCRIPTION:12\, noon. Open house to the community\, all signal equipment on display with operators positioned to enable visitors to see their Hastings unit.\n\n2 pm. Rededication Ceremony.\n\n3 pm. Meet and greet with community leadership.
X-ALT-DESC;FMTTYPE=text/html:12\, noon. Open house to the community\, all signal equipment on display with operators positioned to enable visitors to see their Hastings unit.<br />\n2 pm. Rededication Ceremony.<br />\n3 pm. Meet and greet with community leadership.<br />\n
LOCATION:Hastings National Guard Armory\, 3050 Hwy 316\, Hastings\, MN
UID:e.606.113296
SEQUENCE:3
DTSTAMP:20260420T204940Z
URL:https://www.hastingsmn.org/events/details/hastings-armory-open-house-09-10-2011-113296
END:VEVENT

END:VCALENDAR
