BEGIN:VCALENDAR
VERSION:2.0
PRODID:-//ChamberMaster//Event Calendar 2.0//EN
METHOD:PUBLISH
X-PUBLISHED-TTL:P3D
REFRESH-INTERVAL:P3D
CALSCALE:GREGORIAN
BEGIN:VEVENT
DTSTART:20100312T010000Z
DTEND:20100312T020000Z
X-MICROSOFT-CDO-ALLDAYEVENT:FALSE
SUMMARY:Hastings Area Jaycee's Membership Meet & Greet Event
DESCRIPTION:Meet current and potential members of the Hastings Area Jaycees - join us for a variety of games including darts and pool.  Food\, beverage\, darts and pool are at your own costs.
X-ALT-DESC;FMTTYPE=text/html:<div>Meet current and potential members of the Hastings Area Jaycees - join us for a variety of games including darts and pool.&nbsp\; Food\, beverage\, darts and pool are at your own costs.</div>
LOCATION:Dugarel's Burgers and Wings\, 3475 Vermillion St.\, Hastings
UID:e.606.111524
SEQUENCE:3
DTSTAMP:20260425T212240Z
URL:https://www.hastingsmn.org/events/details/hastings-area-jaycee-s-membership-meet-greet-event-03-11-2010-111524
END:VEVENT

END:VCALENDAR
