BEGIN:VCALENDAR
VERSION:2.0
PRODID:-//ChamberMaster//Event Calendar 2.0//EN
METHOD:PUBLISH
X-PUBLISHED-TTL:P3D
REFRESH-INTERVAL:P3D
CALSCALE:GREGORIAN
BEGIN:VEVENT
DTSTART:20100303T173000Z
DTEND:20100303T183000Z
X-MICROSOFT-CDO-ALLDAYEVENT:FALSE
SUMMARY:Hastings Area Jaycee Membership Meet & Greet Event
DESCRIPTION:Learn more about the organization in a relaxed\, fun environment.  Free to attend\, food and beverage at your own cost.
X-ALT-DESC;FMTTYPE=text/html:<div>Learn more about the organization in a relaxed\, fun environment.&nbsp\; Free to attend\, food and beverage at your own cost.</div>
LOCATION:Green Mill Restaurant\, 909 Vermillion St. Hastings
UID:e.606.111523
SEQUENCE:3
DTSTAMP:20260425T194959Z
URL:https://www.hastingsmn.org/events/details/hastings-area-jaycee-membership-meet-greet-event-03-03-2010-111523
END:VEVENT

END:VCALENDAR
