BEGIN:VCALENDAR
VERSION:2.0
PRODID:-//ChamberMaster//Event Calendar 2.0//EN
METHOD:PUBLISH
X-PUBLISHED-TTL:P3D
REFRESH-INTERVAL:P3D
CALSCALE:GREGORIAN
BEGIN:VEVENT
DTSTART:20101213T230000Z
DTEND:20101214T010000Z
X-MICROSOFT-CDO-ALLDAYEVENT:FALSE
SUMMARY:Hastings Area Chamber of Commerce Holiday Party
DESCRIPTION:All Chamber Members and their guests are invited to ring in the Holidays.  The Point Restaurant is providing complimentary hors d'oeuvres and cash bar.
X-ALT-DESC;FMTTYPE=text/html:<p>\n	All Chamber Members and their guests are invited to ring in the Holidays.&nbsp\; The Point Restaurant is providing complimentary hors d&#39\;oeuvres and cash bar.&nbsp\;</p>\n
LOCATION:The Point Restaurant 12370 Point Douglas Drive S
UID:e.606.112009
SEQUENCE:3
DTSTAMP:20260423T055944Z
URL:https://www.hastingsmn.org/events/details/hastings-area-chamber-of-commerce-holiday-party-12-13-2010-112009
END:VEVENT

END:VCALENDAR
