BEGIN:VCALENDAR
VERSION:2.0
PRODID:-//ChamberMaster//Event Calendar 2.0//EN
METHOD:PUBLISH
X-PUBLISHED-TTL:P3D
REFRESH-INTERVAL:P3D
CALSCALE:GREGORIAN
BEGIN:VEVENT
DTSTART:20091024T220000Z
DTEND:20091025T010000Z
X-MICROSOFT-CDO-ALLDAYEVENT:FALSE
SUMMARY:Harvest Haunting LeDuc Historic Estate
DESCRIPTION:There will be sightings of ghosts\, goblins\, & witches at the Third Annual Harvest Haunting at the LeDuc Historic Estate\, 1629 Vermillion Street \, Hastings \, MN \, 5-8 p.m.  Attendees are encouraged to come in costumes. New this year\, a scary walk in the woods with story tellers. For the children there will be s'mores & apples and for the adults home-baked treats. All visitors will have an opportunity to help make apple cider with the apple press. The cellar will be open every twenty minutes for a candlelight tour. At check-in time attendees will receive a ticket telling them exactly when their tour will be. At 5:30 in the parlor there will be a special reading by a professional of "Jack Tales." There will be ongoing readings from Poe in the Children's Room during the evening. In the Simmons Shed there will be a "Bargain Boo-Tique\," consisting of antiques and collectibles. It is important that reservations be made for this event so that ghosts and goblins can be assured of a spot on one of the tours of the cellar. Call 651-437-7055 to make reservations and state which time you prefer for the tour. Happy Haunting!!
X-ALT-DESC;FMTTYPE=text/html:<div>There will be<span style="font-family: Verdana\; font-size: 7.5pt\; mso-fareast-font-family: 'Times New Roman'\; mso-bidi-font-family: 'Times New Roman'\; mso-ansi-language: EN-US\; mso-fareast-language: EN-US\; mso-bidi-language: AR-SA"> </span><span style="font-family: Verdana\; mso-fareast-font-family: Times New Roman\; mso-bidi-font-family: Times New Roman\; mso-ansi-language: EN-US\; mso-fareast-language: EN-US\; mso-bidi-language: AR-SA">sightings of ghosts\, goblins\, &amp\; witches at the Third Annual Harvest Haunting at the LeDuc Historic Estate\, <st1:address w:st="on"><st1:street w:st="on">1629 Vermillion Street</st1:street> \, <st1:city w:st="on">Hastings</st1:city> \, <st1:state w:st="on">MN</st1:state> </st1:address>\, 5-8 p.m.&nbsp\; Attendees are encouraged to come in costumes. New this year\, a scary walk in the woods with story tellers. For the children there will be s'mores &amp\; apples and for the adults home-baked treats. All visitors will have an opportunity to help make apple cider with the apple press. The cellar will be open every twenty minutes for a candlelight tour. At check-in time attendees will receive a ticket telling them exactly when their tour will be. At 5:30 in the parlor there will be a special reading by a professional of &quot\;Jack Tales.&quot\; There will be ongoing readings from Poe in the Children's Room during the evening. In the Simmons Shed there will be a &quot\;Bargain Boo-Tique\,&quot\; consisting of antiques and collectibles. It is important that reservations be made for this event so that ghosts and goblins can be assured of a spot on one of the tours of the cellar. Call 651-437-7055 to make reservations and state which time you prefer for the tour. Happy Haunting!!</span></div>
LOCATION:LeDuc Historic Estate\, 1629 Vermillion Street
UID:e.606.110908
SEQUENCE:3
DTSTAMP:20260426T025907Z
URL:https://www.hastingsmn.org/events/details/harvest-haunting-leduc-historic-estate-10-24-2009-110908
END:VEVENT

END:VCALENDAR
