BEGIN:VCALENDAR
VERSION:2.0
PRODID:-//ChamberMaster//Event Calendar 2.0//EN
METHOD:PUBLISH
X-PUBLISHED-TTL:P3D
REFRESH-INTERVAL:P3D
CALSCALE:GREGORIAN
BEGIN:VEVENT
DTSTART:20121027T220000Z
DTEND:20121028T020000Z
X-MICROSOFT-CDO-ALLDAYEVENT:FALSE
SUMMARY:Harvest Haunting at the LeDuc Historic Estate
DESCRIPTION:Harvest Haunting will be held at the LeDuc Historic Estate on Saturday\, October 27\, 5-9 p.m.  There will be new twists to old themes - historical spooky walk in the LeDuc woods\, a bonfire with popcorn & s'mores\, hot beverages & sweet treats\, scary videos\, spooky storytelling\, candlelight cellar tours where old mysteries will be re-told.  Join the fun and children are encouraged to wear Halloween costumes.  Admission price is $7 per person.  Reservations must be made for the time of the cellar tour.
X-ALT-DESC;FMTTYPE=text/html:Harvest Haunting will be held at the LeDuc Historic Estate on Saturday\, October 27\, 5-9 p.m. &nbsp\;There will be new twists to old themes - historical spooky walk in the LeDuc woods\, a bonfire with popcorn &amp\; s&#39\;mores\, hot beverages &amp\; sweet treats\, scary videos\, spooky storytelling\, candlelight cellar tours where old mysteries will be re-told.&nbsp\; Join the fun and children are encouraged to wear Halloween costumes. &nbsp\;Admission price is $7 per person. &nbsp\;Reservations must be made for the time of the cellar tour.
LOCATION:LeDuc Historic Estate
UID:e.606.113712
SEQUENCE:3
DTSTAMP:20260419T215750Z
URL:https://www.hastingsmn.org/events/details/harvest-haunting-at-the-leduc-historic-estate-10-27-2012-113712
END:VEVENT

END:VCALENDAR
