BEGIN:VCALENDAR
VERSION:2.0
PRODID:-//ChamberMaster//Event Calendar 2.0//EN
METHOD:PUBLISH
X-PUBLISHED-TTL:P3D
REFRESH-INTERVAL:P3D
CALSCALE:GREGORIAN
BEGIN:VEVENT
DTSTART:20120324T160000Z
DTEND:20120324T200000Z
X-MICROSOFT-CDO-ALLDAYEVENT:FALSE
SUMMARY:Guys & Gals Spring Swing at Hidden Greens Golf Course
DESCRIPTION:Hidden Greens Guys and Gals Spring Swing. Kick off the golf season with an event for golfers\, shoppers\, wine & beer tasters\, and those who love to sample appetizers! This event will feature a Callaway golf club display\, TrackMan club fitting\, JJ's Fitness Solutions' golf fitness tips\, information on golf leagues\, golf clothing for sale plus shopping with Scentsy and Tastefully Simple. Nicole's Nu Wave will be giving scalp massages. Wine & beer tasting\, appetizers provided by The Onion Grille and so much more!
X-ALT-DESC;FMTTYPE=text/html:<span style="color: #008000"><strong>Hidden Greens Guys and Gals Spring Swing</strong></span>. Kick off the golf season with an event for golfers\, shoppers\, wine & beer tasters\, and those who love to sample appetizers! This event will feature a Callaway golf club display\, TrackMan club fitting\, JJ's Fitness Solutions' golf fitness tips\, information on golf leagues\, golf clothing for sale plus shopping with Scentsy and Tastefully Simple. Nicole's Nu Wave will be giving scalp massages. Wine & beer tasting\, appetizers provided by The Onion Grille and so much more!
LOCATION:Hidden Greens Golf Course 12977 - 200th Street East\, Hastings\, MN 55033
UID:e.606.113639
SEQUENCE:3
DTSTAMP:20260422T112724Z
URL:https://www.hastingsmn.org/events/details/guys-gals-spring-swing-at-hidden-greens-golf-course-03-24-2012-113639
END:VEVENT

END:VCALENDAR
