BEGIN:VCALENDAR
VERSION:2.0
PRODID:-//ChamberMaster//Event Calendar 2.0//EN
METHOD:PUBLISH
X-PUBLISHED-TTL:P3D
REFRESH-INTERVAL:P3D
CALSCALE:GREGORIAN
BEGIN:VEVENT
DTSTART:20110312T170000Z
DTEND:20110312T210000Z
X-MICROSOFT-CDO-ALLDAYEVENT:FALSE
SUMMARY:Guys and Gals Spring Swing
DESCRIPTION:Get in the Swing of Spring at Hidden Greens!\n\nStop out to Hidden Greens to hit a few golf balls on the driving range\, sign up for our new Tuesday night couples league\, register for Ladies Golf 101\, see new golf equipment from Callaway\, shop with local stores including Lillians\, Pampered Chef\, Scentsy\, & more.  Be pampered by Nicole's Nu Wave salon and chair massages by Power Within Chiropractic. Enjoy beer by Luplin Libations and wine tasting plus appetizers by The Onion Grille & other food sampling!  This event is free\, we just ask for a donation at the door for Tee it Up for the Troops\, Inc. Visit our website:  www.HiddenGreensGolf.com for new details as they be come available!
X-ALT-DESC;FMTTYPE=text/html:Get in the Swing of Spring at Hidden Greens!\n<br>Stop out to Hidden Greens to hit a few golf balls on the driving range\, sign up for our new Tuesday night couples league\, register for Ladies Golf 101\, see new golf equipment from Callaway\, shop with local stores including Lillians\, Pampered Chef\, Scentsy\, &amp\; more.  Be pampered by Nicole's Nu Wave salon and chair massages by Power Within Chiropractic. Enjoy beer by Luplin Libations and wine tasting plus appetizers by The Onion Grille &amp\; other food sampling!  This event is free\, we just ask for a donation at the door for Tee it Up for the Troops\, Inc. Visit our website:  www.HiddenGreensGolf.com for new details as they be come available!\n<br>
LOCATION:12977 - 200th Street East\, Hastings\, MN 55033
UID:e.606.112263
SEQUENCE:3
DTSTAMP:20260421T093853Z
URL:https://www.hastingsmn.org/events/details/guys-and-gals-spring-swing-03-12-2011-112263
END:VEVENT

END:VCALENDAR
