BEGIN:VCALENDAR
VERSION:2.0
PRODID:-//ChamberMaster//Event Calendar 2.0//EN
METHOD:PUBLISH
X-PUBLISHED-TTL:P3D
REFRESH-INTERVAL:P3D
CALSCALE:GREGORIAN
BEGIN:VEVENT
DTSTART:20110220T160000Z
DTEND:20110220T200000Z
X-MICROSOFT-CDO-ALLDAYEVENT:FALSE
SUMMARY:Gopher Hills & McArthur's Wood Grill Open House
DESCRIPTION:FREE BRUNCH for those who tour the facility.\n\n	 -Visit with Golf Reps and Hit new clubs in the simulator\n\n	 -$10 Gift Certificate to Golf Galaxy for the first 50 people that come.  \n\n	-Receive a Free Round of Golf at Gopher Hills\n\n	- Meet with wedding vendors and see our banquet rooms decorated by Cindy's Floral Creations.\n\n	 \n\n	PLUS THE MEMBERSHIP SALE WILL BE BACK DURING THE OPEN HOUSE ONLY
X-ALT-DESC;FMTTYPE=text/html:<span style="font-size: 10px"><span style="font-family: arial"><strong>FREE BRUNCH for&nbsp\;those who tour the facility.</strong></span></span>\n<p align="left" style="text-align: left\; margin-top: 0px\; margin-bottom: 0px\; font-size: 12pt">\n	<span style="font-size: 10px"><span style="font-family: arial"><strong>&nbsp\;-Visit with Golf Reps and Hit new clubs in the simulator</strong></span></span></p>\n<p align="left" style="text-align: left\; margin-top: 0px\; margin-bottom: 0px\; font-size: 12pt">\n	<span style="font-size: 10px"><span style="font-family: arial"><strong>&nbsp\;-$10 Gift Certificate to Golf Galaxy for the first 50 people that come.&nbsp\;&nbsp\;<br />\n	-Receive a Free Round of Golf at Gopher Hills</strong></span></span></p>\n<p align="left" style="text-align: left\; margin-top: 0px\; margin-bottom: 0px">\n	<span style="font-size: 10px"><span style="font-family: arial"><strong>- Meet with wedding vendors and see our banquet rooms decorated by Cindy&#39\;s Floral Creations.<br />\n	&nbsp\;</strong></span></span></p>\n<p align="center" style="text-align: center\; margin-top: 0px\; margin-bottom: 0px">\n	<span style="font-size: 10px"><span style="font-family: arial"><strong>PLUS THE MEMBERSHIP SALE WILL BE BACK DURING THE OPEN HOUSE ONLY</strong></span></span><span style="font-family: garamond\, times new roman\, times\, serif\; font-size: 12pt"><strong><span _fck_bookmark="1" style="display: none">&nbsp\;</span></strong></span></p>\n
LOCATION:Gopher Hills Golf Course 26155 Nicolai Ave Cannon Falls\, MN 55009
UID:e.606.112024
SEQUENCE:3
DTSTAMP:20260421T094356Z
URL:https://www.hastingsmn.org/events/details/gopher-hills-mcarthur-s-wood-grill-open-house-02-20-2011-112024
END:VEVENT

END:VCALENDAR
