BEGIN:VCALENDAR
VERSION:2.0
PRODID:-//ChamberMaster//Event Calendar 2.0//EN
METHOD:PUBLISH
X-PUBLISHED-TTL:P3D
REFRESH-INTERVAL:P3D
CALSCALE:GREGORIAN
BEGIN:VEVENT
DTSTART:20111123T220000Z
DTEND:20111124T030000Z
X-MICROSOFT-CDO-ALLDAYEVENT:FALSE
SUMMARY:Gobble Gait Pre-Race Party
DESCRIPTION:Pasta Dinner for participants of Gobble Gait to register and pick-up T-shirts.
X-ALT-DESC;FMTTYPE=text/html:Pasta Dinner for participants of Gobble Gait to register and pick-up T-shirts.<br />\n<br />\n
LOCATION:The Onion Grille 100 Sibley Street Hastings MN 55033
UID:e.606.113333
SEQUENCE:3
DTSTAMP:20260420T191207Z
URL:https://www.hastingsmn.org/events/details/gobble-gait-pre-race-party-11-23-2011-113333
END:VEVENT

END:VCALENDAR
