BEGIN:VCALENDAR
VERSION:2.0
PRODID:-//ChamberMaster//Event Calendar 2.0//EN
METHOD:PUBLISH
X-PUBLISHED-TTL:P3D
REFRESH-INTERVAL:P3D
CALSCALE:GREGORIAN
BEGIN:VEVENT
DTSTART:20100416T233000Z
DTEND:20100417T030000Z
X-MICROSOFT-CDO-ALLDAYEVENT:FALSE
SUMMARY:Global Cusine Dinner and Wine Tasting
DESCRIPTION:Global Cuisine and Riedel Wine Tasting Dinner\n\n \n\n \n\n\n\nFriday April 16\, 2010 \n\n"Global Cuisine and Riedel Wine Tasting Dinner"    \n\n(5 course plus hors'doeuvres paired with 5 wines)  \n\n$54.95 by April 1st.       $59.95 after April 1st\n\n\n\nMenu will be posted soon!\n\n\n\nRomantic Room Special!\n\n35% off any Jacuzzi & Fireplace Room \n\nwith Comedy Dinner Reservations\n\n\n\n For Reservations Call - 651.436.8883
X-ALT-DESC;FMTTYPE=text/html:\n<br>Global Cuisine and Riedel Wine Tasting Dinner\n<br> \n<br> \n<br>\n<br>Friday April 16\, 2010 \n<br>"Global Cuisine and Riedel Wine Tasting Dinner"    \n<br>(5 course plus hors'doeuvres paired with 5 wines)  \n<br>$54.95 by April 1st.       $59.95 after April 1st\n<br>\n<br>Menu will be posted soon!\n<br>\n<br>Romantic Room Special!\n<br>35% off any Jacuzzi &amp\; Fireplace Room \n<br>with Comedy Dinner Reservations\n<br>\n<br> For Reservations Call - 651.436.8883\n<br> \n<br>
LOCATION:Afton House Inn Afton\, MN
UID:e.606.111546
SEQUENCE:3
DTSTAMP:20260425T182435Z
URL:https://www.hastingsmn.org/events/details/global-cusine-dinner-and-wine-tasting-04-16-2010-111546
END:VEVENT

END:VCALENDAR
